BEGIN:VCALENDAR
VERSION:2.0
PRODID:-//Patriot Guard Riders - ECPv5.3.2.1//NONSGML v1.0//EN
CALSCALE:GREGORIAN
METHOD:PUBLISH
X-WR-CALNAME:Patriot Guard Riders
X-ORIGINAL-URL:https://www.patriotguard.org
X-WR-CALDESC:Events for Patriot Guard Riders
BEGIN:VTIMEZONE
TZID:America/New_York
BEGIN:DAYLIGHT
TZOFFSETFROM:-0500
TZOFFSETTO:-0400
TZNAME:EDT
DTSTART:20190310T070000
END:DAYLIGHT
BEGIN:STANDARD
TZOFFSETFROM:-0400
TZOFFSETTO:-0500
TZNAME:EST
DTSTART:20191103T060000
END:STANDARD
END:VTIMEZONE
BEGIN:VEVENT
DTSTART;VALUE=DATE:20190603
DTEND;VALUE=DATE:20190604
DTSTAMP:20210405T134312
CREATED:20190601T231534Z
LAST-MODIFIED:20190602T010457Z
UID:163311-1559520000-1559606399@www.patriotguard.org
SUMMARY:Guy Tucci
DESCRIPTION:Honor Mission\nGuy Tucci\, Veteran\nUSAF\nCecil Township\, Pennsylvania – 06-03-19\n\n\n\nABOUT THE MISSION: \nThe Patriot Guard Riders have been invited by the family of Guy Tucci\, U.S. Air Force\, to stand in silent honor for his interment.  Guy proudly served the U.S. Air Force from 1962-1968 overseas\, stationed at Royal Air Force Mildenhall\, England.  He was an Aircraft Maintenance Officer for Boeing 707s\, known as Silk Purse\, the Airborne Command Post over Europe and achieved the rank of Captain.  Guy received the National Defense Service Medal.\nGuy served our country with honor\, now its our turn to stand in honor for him.\n\n\nPRIMARY STAGING DETAILS: 06-03-19 \nStaging Time: 10:30  \nPOW Circle\nNational Cemetery Of The Alleghenies\n1158 Morgan Rd\nCecil Township\, Pennsylvania 15017\nMAP\n\n\nRide Captain: \nJim Shaw\njeshaw@comcast.net\n(412)217-5967\n\n\nSpecial Instructions: \nFlag Line: 10:45 AM\nInterment with Military Honors is scheduled for 11:00 AM\n\nGuy is family friend to one of our own\, SRC Jim Shaw.\n\nMembers can attend all of a mission or any part of the mission. PGR sets no time for a member to stand a mission. We Thank you for whatever time you give us and the families of our heroes appreciate your time.\nRemember that the National Cemetery is a Federal Reservation and NO WEAPONS are permitted.\nPlease watch the weather\, dress accordingly and hydrate\n\n\nFlags & Water:\nFlags will not be provided\nLarge Bike Flags will NOT be needed.\nWater WILL NOT be provided\, please bring your own.\n\n \n\nSubmitted By: Marcy Sorensen \nPosition: Pennsylvania Ride Captain \n\nNote: You do not have to own/ride a motorcycle or be a veteran to join\, and membership is Free. The only requirement is RESPECT! To subscribe to receive mission notices\, log into the National Site and click on the Members tab at the top. Select the Subscribe to PGR Missions option.\n Print This Page
URL:https://www.patriotguard.org/mission/guy-tucci/
CATEGORIES:Honor Mission
END:VEVENT
END:VCALENDAR