BEGIN:VCALENDAR
VERSION:2.0
PRODID:-//Patriot Guard Riders - ECPv5.3.2.1//NONSGML v1.0//EN
CALSCALE:GREGORIAN
METHOD:PUBLISH
X-WR-CALNAME:Patriot Guard Riders
X-ORIGINAL-URL:https://www.patriotguard.org
X-WR-CALDESC:Events for Patriot Guard Riders
BEGIN:VTIMEZONE
TZID:America/New_York
BEGIN:DAYLIGHT
TZOFFSETFROM:-0500
TZOFFSETTO:-0400
TZNAME:EDT
DTSTART:20190310T070000
END:DAYLIGHT
BEGIN:STANDARD
TZOFFSETFROM:-0400
TZOFFSETTO:-0500
TZNAME:EST
DTSTART:20191103T060000
END:STANDARD
END:VTIMEZONE
BEGIN:VEVENT
DTSTART;VALUE=DATE:20190527
DTEND;VALUE=DATE:20190528
DTSTAMP:20210405T053021
CREATED:20190522T132740Z
LAST-MODIFIED:20190522T132740Z
UID:162079-1558915200-1559001599@www.patriotguard.org
SUMMARY:Gulf Coast Veterans Advocacy Council Memorial Day Event
DESCRIPTION:  \n\nMemorial\nGulf Coast Veterans Advocacy Council Memorial Day Event\nUSA USMC USN USAF USCG\nPensacola\, Florida 05-27-19\n\n\n\n\nABOUT THE MISSION: \nThe Gulf Coast Veterans Advocacy Council will hold a Memorial Day event at Barrancas National Cemetery to honor fallen veterans. The Patriot Guard has been invited to provide a flag line for this event.\n\n\nPRIMARY STAGING DETAILS: 05-27-19 \nStaging Time: 07:30 am\n \nWhataburger\n1313 N. New Warrington Rd\nPensacola\, Florida\n\n\nRide Captain: \nRay Doyle\nretonaharley@gmail.com\n850 902 0123\n\n\nSpecial Instructions: \nNaval Air Station requires long sleeve shirts or jacket\, long trousers\, long fingered gloves\, DOT approved helmet\, leather footwear covering the ankles\, and protective eye wear while riding aboard the base.\n\n08:00 am – Safety briefing\n08:15 am – KSU to Barrancas National Cemetery\n08:30 am – Arrive at Barrancas National Cemetery\n09:00 am – Ceremony begins\n\n\nFlags & Water:\nFlags will be provided\nIf you have large bike flags\, please bring them.\nWater will be provided.\n  \n\n\nSubmitted By: Ray Doyle \nPosition: Florida Assistant State Captain \n\nNote: You do not have to own/ride a motorcycle or be a veteran to join\, and membership is Free. The only requirement is RESPECT! To subscribe to receive mission notices\, log into the National Site and click on the Members tab at the top. Select the Subscribe to PGR Missions option.\n Print This Page
URL:https://www.patriotguard.org/mission/gulf-coast-veterans-advocacy-council-memorial-day-event/
CATEGORIES:Memorial
END:VEVENT
END:VCALENDAR