BEGIN:VCALENDAR
VERSION:2.0
PRODID:-//Patriot Guard Riders - ECPv5.3.2.1//NONSGML v1.0//EN
CALSCALE:GREGORIAN
METHOD:PUBLISH
X-WR-CALNAME:Patriot Guard Riders
X-ORIGINAL-URL:https://www.patriotguard.org
X-WR-CALDESC:Events for Patriot Guard Riders
BEGIN:VTIMEZONE
TZID:America/New_York
BEGIN:DAYLIGHT
TZOFFSETFROM:-0500
TZOFFSETTO:-0400
TZNAME:EDT
DTSTART:20190310T070000
END:DAYLIGHT
BEGIN:STANDARD
TZOFFSETFROM:-0400
TZOFFSETTO:-0500
TZNAME:EST
DTSTART:20191103T060000
END:STANDARD
END:VTIMEZONE
BEGIN:VEVENT
DTSTART;VALUE=DATE:20190621
DTEND;VALUE=DATE:20190622
DTSTAMP:20210405T050735
CREATED:20190621T012610Z
LAST-MODIFIED:20190621T012610Z
UID:165405-1561075200-1561161599@www.patriotguard.org
SUMMARY:Grover Cleveland Hull
DESCRIPTION:Honor Mission\nGrover Cleveland Hull\, Veteran\nUSMC – WWII\nRocky Mount\, North Carolina – 06-21-19\n\n\n\nABOUT THE MISSION: \nWe have been asked to stand with honor and show respect for one of America’s Greatest Generation. PFC Hull served with Gen. McArthur in the Philippines at the end of WWII. He was a rifleman designed to protect the recovery of the remains from the Bataan Death March and played a key role in the occupation of Japan. A piece of history has departed for a far better place and we can show our appreciation and respect for his service and sacrifices by standing tall and proud during his Memorial Service.\n\n\nPRIMARY STAGING DETAILS: 06-21-19 \nStaging Time: 09:30 AM\n \nBenvenue Baptist Church\n2464 Benvenue Rd.\nRocky Mount\, North Carolina 27804\n\n\nRide Captain: \nRCIT: Ed Costello\nencostello@msn.com\n\n\nSpecial Instructions: \nThis is a Flag Line only Mission.\n\n\nFlags & Water:\nFlags will be provided\nLarge Bike Flags will NOT be needed.\nWater WILL NOT be provided\, please bring your own.\n\n\n\nSubmitted By: Roy Hankinson \nPosition: North Carolina Assistant State Captain \n\nNote: You do not have to own/ride a motorcycle or be a veteran to join\, and membership is Free. The only requirement is RESPECT! To subscribe to receive mission notices\, log into the National Site and click on the Members tab at the top. Select the Subscribe to PGR Missions option.\n Print This Page
URL:https://www.patriotguard.org/mission/grover-cleveland-hull/
CATEGORIES:Honor Mission
END:VEVENT
END:VCALENDAR