BEGIN:VCALENDAR
VERSION:2.0
PRODID:-//Patriot Guard Riders - ECPv5.6.0//NONSGML v1.0//EN
CALSCALE:GREGORIAN
METHOD:PUBLISH
X-WR-CALNAME:Patriot Guard Riders
X-ORIGINAL-URL:https://www.patriotguard.org
X-WR-CALDESC:Events for Patriot Guard Riders
BEGIN:VTIMEZONE
TZID:America/New_York
BEGIN:DAYLIGHT
TZOFFSETFROM:-0500
TZOFFSETTO:-0400
TZNAME:EDT
DTSTART:20160313T070000
END:DAYLIGHT
BEGIN:STANDARD
TZOFFSETFROM:-0400
TZOFFSETTO:-0500
TZNAME:EST
DTSTART:20161106T060000
END:STANDARD
END:VTIMEZONE
BEGIN:VEVENT
DTSTART;TZID=America/New_York:20160805T090000
DTEND;TZID=America/New_York:20160805T110000
DTSTAMP:20210511T185403
CREATED:20160805T130000Z
LAST-MODIFIED:20191201T143837Z
UID:410146-1470387600-1470394800@www.patriotguard.org
SUMMARY:Grover Armstrong\, USN
DESCRIPTION:05 Aug 2016\nGrover Armstrong\nUS Navy\, WWII\nTrussville & Birmingham\, AL\n\n\n\nThe family of Mr. Armstrong has requested the PGR to stand and ride for their loved one. Mr. Armstrong served in the US Navy. He stood for us so it will be our honor to stand and ride for him at this time. We will take part in the procession to the cemetery and stand a flag line for the graveside service. \nStaging 1: 9:30 am\, 05 Aug 2016\, (Stage for procession to cemetery at 10:00 am)\n    Jefferson Memorial Funeral Home\n    1591 Gadsden Hwy\n    Trussville\, AL 35235 \nStaging 2: 11:00 am\, 05 Aug 2016\, Flag Line for Interment \n    Elmwood Cemetery\n    600 Martin Luther King Jr Dr.\n    Birmingham\, AL\, 35211 \nWeather: High of 94\n    Please stay hydrated. \nRCIC: Russel “Skinny” Padgett\n           205-540-7063\n           RussDon@aol.com
URL:https://www.patriotguard.org/mission/grover-armstrong-usn/
CATEGORIES:Archive
END:VEVENT
END:VCALENDAR