BEGIN:VCALENDAR
VERSION:2.0
PRODID:-//Patriot Guard Riders - ECPv5.3.2.1//NONSGML v1.0//EN
CALSCALE:GREGORIAN
METHOD:PUBLISH
X-WR-CALNAME:Patriot Guard Riders
X-ORIGINAL-URL:https://www.patriotguard.org
X-WR-CALDESC:Events for Patriot Guard Riders
BEGIN:VTIMEZONE
TZID:America/New_York
BEGIN:DAYLIGHT
TZOFFSETFROM:-0500
TZOFFSETTO:-0400
TZNAME:EDT
DTSTART:20190310T070000
END:DAYLIGHT
BEGIN:STANDARD
TZOFFSETFROM:-0400
TZOFFSETTO:-0500
TZNAME:EST
DTSTART:20191103T060000
END:STANDARD
END:VTIMEZONE
BEGIN:VEVENT
DTSTART;VALUE=DATE:20190831
DTEND;VALUE=DATE:20190901
DTSTAMP:20210402T083749
CREATED:20190830T145511Z
LAST-MODIFIED:20190830T145511Z
UID:172321-1567209600-1567295999@www.patriotguard.org
SUMMARY:Gregory Lee Reed
DESCRIPTION:Honor Mission\nGregory Lee Reed\, Veteran\nUSA\nGrapevine\, Texas – 08-31-19\n\n\n \n\nABOUT THE MISSION: \nCelebration of Life.  Greg Reed served in the U.S. Army for 11 years and was most proud of his service to our country. He had just recently joined a North Texas Patriot Guard mission with his neighbor and was very much looking forward to becoming more involved with that organization that supports veterans and their families.\n\n\nPRIMARY STAGING DETAILS: 08-31-19 \nStaging Time: 1:00 pm\n \nGreat Scott Restaurant\n1701 Cross Roads Drive\nGrapevine\, Texas 76051\n\n\nRide Captain: \nMark Gravit\nputt4dou@msn.com\n(720) 422-9221\n\n\nSpecial Instructions: \nBriefing Time: 1:40pm\nIn Position/KSU Time: 1:50pm\nStarting Time: 2:00pm\nGreg Reed was a friend and neighbor of Ride Captain Mark Gravit. He received his mission accomplished pin after his first mission with the PGR recently. After the mission briefing\, which will take place outside the restaurant\, we’ll move inside at approximately 1350 hours and stage for our portion of the planned program\, which is scheduled to start at 1400 hours. We will stand tall and silent inside the restaurant while we render Military Honors. The flag will be presented to Mr. Reed’s Mom at his wife Sue’s request. We’ll also present Sue with our certificate following Military Honors. The restaurant where the Celebration will take place was the favorite of Greg and Sue and the owners are closing the restaurant to the public to allow for his Celebration of Life. At the conclusion of Military Honors and the presentation of the certification\, Riders will move outside\, be debriefed and dismissed.\n\nFlags & Water:\nFlags will be provided\nLarge Bike Flags will NOT be needed.\nWater will be provided.\n\n\n\nSubmitted By: Dan Mathys \nPosition: Texas Ride Captain \n\nNote: You do not have to own/ride a motorcycle or be a veteran to join\, and membership is Free. The only requirement is RESPECT! To subscribe to receive mission notices\, log into the National Site and click on the Members tab at the top. Select the Subscribe to PGR Missions option.\n Print This Page
URL:https://www.patriotguard.org/mission/gregory-lee-reed/
CATEGORIES:Honor Mission
END:VEVENT
END:VCALENDAR