BEGIN:VCALENDAR
VERSION:2.0
PRODID:-//Patriot Guard Riders - ECPv5.6.0//NONSGML v1.0//EN
CALSCALE:GREGORIAN
METHOD:PUBLISH
X-WR-CALNAME:Patriot Guard Riders
X-ORIGINAL-URL:https://www.patriotguard.org
X-WR-CALDESC:Events for Patriot Guard Riders
BEGIN:VTIMEZONE
TZID:America/New_York
BEGIN:DAYLIGHT
TZOFFSETFROM:-0500
TZOFFSETTO:-0400
TZNAME:EDT
DTSTART:20160313T070000
END:DAYLIGHT
BEGIN:STANDARD
TZOFFSETFROM:-0400
TZOFFSETTO:-0500
TZNAME:EST
DTSTART:20161106T060000
END:STANDARD
END:VTIMEZONE
BEGIN:VEVENT
DTSTART;TZID=America/New_York:20160721T090000
DTEND;TZID=America/New_York:20160721T110000
DTSTAMP:20210512T164940
CREATED:20160721T130000Z
LAST-MODIFIED:20191201T144243Z
UID:410522-1469091600-1469098800@www.patriotguard.org
SUMMARY:Gregory Erwin Bodine\, USN\, Vietnam / Turlock
DESCRIPTION:The family of  Gregory (Greg) Bodine has requested the Patriot Guard Riders escort  their loved one to his final rest at SJVNC (Santa Nella\, Ca) on Thursday  July 21\, 2016. The PGR is honored to do so.      \n\nGreg served three and a half years in the U.S. Navy  with a tour of duty in South Vietnam. For his honorable service to our  country\, he was awarded the National Defense Service Medal\, Naval  Commendation Medal\, Vietnam Service Medal and the Vietnam Campaign  Medal. \nGreg worked thirty years for the United States Postal Service. \nHe  is survived by his widow Marji\, a son\, adaughter\, a brother\, and  several other family members.  \nTHE MISSION:  PGR members will stage at  Burger King restaurant\, 1610 W. Main St. Turlock Ca. (east side of Hwy  99) for a briefing then as a group\, proceed to Allen Mortuary 247 N.  Broadway Turlock for further coordination with the funeral home staff  and next of kin for the honorable transport of Gregory Bodine to SJVNC  (Santa Nella Ca). \nExpected arrival time at SJVNC is 1030 hours Thursday  July 21\, 2016. \nServices at the committal shelter are scheduled for 1100  hours. \nPGR will establish a flag line during the service. At the  conclusion of the service\, the PGR will be dismissed.  \nNOTE: PGR members traveling from the Stockton  area who wish to be part of the honorable escort\, can meet at  Perkos/Chevron 4300 E. Waterloo Rd\, Stockton\, Ca Map Link: http://mapq.st/h/29hQXY7 at  0700 hrs. \nKSU en-route to Turlock staging location will be 0730 hrs\,  arriving at the staging location (Turlock) by 0820 hrs.   \nTURLOCK STAGING INFORMATION:\n\nSTAGE:    0820   Burger King 1610 W. Main St. Turlock  Map Link: http://mapq.st/h/29LrLYc\n\nBRIEF:     0830    \nKSU:        0840   enroute to Allen Mortuary 247 N. Broadway\, Turlock Ca.  Map Link: http://mapq.st/h/29XymAR \nARR:        0845   Allen Mortuary  \nKSU:        0915   en-route to SJVNC Santa Nella. Map Link: http://mapq.st/h/1TlS8pa\n\nETA          1030 \nR/C:          John Silva\,  209-479-8300 \nAR/C        Craig Hicks\, 214-478-1676
URL:https://www.patriotguard.org/mission/gregory-erwin-bodine-usn-vietnam-turlock/
CATEGORIES:Archive
END:VEVENT
END:VCALENDAR