BEGIN:VCALENDAR
VERSION:2.0
PRODID:-//Patriot Guard Riders - ECPv5.6.0//NONSGML v1.0//EN
CALSCALE:GREGORIAN
METHOD:PUBLISH
X-WR-CALNAME:Patriot Guard Riders
X-ORIGINAL-URL:https://www.patriotguard.org
X-WR-CALDESC:Events for Patriot Guard Riders
BEGIN:VTIMEZONE
TZID:America/New_York
BEGIN:DAYLIGHT
TZOFFSETFROM:-0500
TZOFFSETTO:-0400
TZNAME:EDT
DTSTART:20160313T070000
END:DAYLIGHT
BEGIN:STANDARD
TZOFFSETFROM:-0400
TZOFFSETTO:-0500
TZNAME:EST
DTSTART:20161106T060000
END:STANDARD
END:VTIMEZONE
BEGIN:VEVENT
DTSTART;TZID=America/New_York:20160617T090000
DTEND;TZID=America/New_York:20160617T110000
DTSTAMP:20210513T184633
CREATED:20160617T130000Z
LAST-MODIFIED:20191201T145106Z
UID:411289-1466154000-1466161200@www.patriotguard.org
SUMMARY:Gregory A. Magney
DESCRIPTION:The Patriot Guard Riders have been invited to stand and honor fallen US Navy veteran Gregory A. Magney prior to and during his interment service. \nThe service is planned for this coming Friday\, June 17\, 2016 at 11:00 AM at the Northern Nevada Veterans’ Memorial Cemetery\, Fernley\, NV. \nVeteran Magney\, Reno\, NV\, honorably served his country as a boiler technician from 1980-1985. \nPlan on establishing the flag line at 10:30 AM at the cemetery entrance.  The flag line will reassemble on the cemetery plaza during the service. \nThose leaving Reno Sparks wishing to ride or drive as a group\, plan on departing the Alamo Truck Stop located on East Greg St. near Sparks\, Blvd.  We will meet in the parking lot south of the motel and depart at 9:30 AM Friday morning. \n—\ndeanshuff06@charter.net
URL:https://www.patriotguard.org/mission/gregory-a-magney/
END:VEVENT
END:VCALENDAR