BEGIN:VCALENDAR
VERSION:2.0
PRODID:-//Patriot Guard Riders - ECPv5.3.2.1//NONSGML v1.0//EN
CALSCALE:GREGORIAN
METHOD:PUBLISH
X-WR-CALNAME:Patriot Guard Riders
X-ORIGINAL-URL:https://www.patriotguard.org
X-WR-CALDESC:Events for Patriot Guard Riders
BEGIN:VTIMEZONE
TZID:America/New_York
BEGIN:DAYLIGHT
TZOFFSETFROM:-0500
TZOFFSETTO:-0400
TZNAME:EDT
DTSTART:20190310T070000
END:DAYLIGHT
BEGIN:STANDARD
TZOFFSETFROM:-0400
TZOFFSETTO:-0500
TZNAME:EST
DTSTART:20191103T060000
END:STANDARD
END:VTIMEZONE
BEGIN:VEVENT
DTSTART;VALUE=DATE:20190907
DTEND;VALUE=DATE:20190908
DTSTAMP:20210401T114531
CREATED:20190827T143845Z
LAST-MODIFIED:20190827T143845Z
UID:172023-1567814400-1567900799@www.patriotguard.org
SUMMARY:Greg Verdugo
DESCRIPTION:Honor Mission\nGreg Verdugo\, Veteran\, PGR\nUSA\nRidgefield\, Washington – 09-07-19\n\n\n\nABOUT THE MISSION: \nThe Patriot Guard Riders will stand for the final ride of US Army Veteran and PGR Brother\, Greg Verdugo. Greg entered in the Army in 1980 and earned the rank of Corporal. Greg was a new PGR Brother and this Final Ride will be his third mission. Greg was a local businessman owning Verdugo Masonry\, he was a devoted family man. Greg died after 34 days in a coma sustained in a vehicle crash with a uninsured motorist. He was an avid Harley Davidson rider and owner having two Harley’s . Greg is survived by a loving and supportive family.\n\n\nPRIMARY STAGING DETAILS: 09-07-19 \nStaging Time: 12:45 pm\n \nIlani Casino Chevron Gas Station\n1 Cowlitz Way\nRidgefield\, Washington 98642\n\n\nRide Captain: \nSteve Taylor\nsteve@flexabili-tees.com\n360-936-1788\n\n\nSpecial Instructions: \n12:45 PM – Staging / sign-in\n1:15 PM – Mission Briefing\, (we will have immediate family involved in the RHG with our hero)\n1:30 PM – KSU to the celebration of life location\n\n\nFlags & Water:\nFlags will not be provided\nIf you have large bike flags\, please bring them.\nWater WILL NOT be provided\, please bring your own.\n\nSTAGING #2 DETAILS: 09-07-19 \nStaging Time: 1:15 pm  \nWater Resources Education Center\n4600 SE Columbia Way\nVancouver\, Washington 98661\n\n\nRide Captain: \nChuck Lashley\nchuck@lastruckrepair.com\n360-747-1958\n\nSV: Donald ( Peace Maker ) Gagnon\ndonaldgagnon30@yahoo.com\n\n\nSpecial Instructions: \n1:15 PM – Staging / Sign-in\n1:30 PM – Mission Briefing\n1:45 PM – Flag Line in Place\n2:00 PM – Service Begins\n2:30 PM – Fade Away and Debrief\n\n\nFlags & Water:\nFlags will be provided\nLarge Bike Flags will NOT be needed.\nWater WILL NOT be provided\, please bring your own.\n\nSubmitted By: chuck lashley \nPosition: Washington Ride Captain \n\nNote: You do not have to own/ride a motorcycle or be a veteran to join\, and membership is Free. The only requirement is RESPECT! To subscribe to receive mission notices\, log into the National Site and click on the Members tab at the top. Select the Subscribe to PGR Missions option.\n Print This Page
URL:https://www.patriotguard.org/mission/greg-verdugo/
CATEGORIES:Honor Mission
END:VEVENT
END:VCALENDAR