BEGIN:VCALENDAR
VERSION:2.0
PRODID:-//Patriot Guard Riders - ECPv5.3.2.1//NONSGML v1.0//EN
CALSCALE:GREGORIAN
METHOD:PUBLISH
X-WR-CALNAME:Patriot Guard Riders
X-ORIGINAL-URL:https://www.patriotguard.org
X-WR-CALDESC:Events for Patriot Guard Riders
BEGIN:VTIMEZONE
TZID:America/New_York
BEGIN:DAYLIGHT
TZOFFSETFROM:-0500
TZOFFSETTO:-0400
TZNAME:EDT
DTSTART:20190310T070000
END:DAYLIGHT
BEGIN:STANDARD
TZOFFSETFROM:-0400
TZOFFSETTO:-0500
TZNAME:EST
DTSTART:20191103T060000
END:STANDARD
END:VTIMEZONE
BEGIN:VEVENT
DTSTART;VALUE=DATE:20190527
DTEND;VALUE=DATE:20190528
DTSTAMP:20210405T135459
CREATED:20190513T173259Z
LAST-MODIFIED:20190513T173259Z
UID:160341-1558915200-1559001599@www.patriotguard.org
SUMMARY:Greenwood Memorial Day Celebration
DESCRIPTION:HOTH Mission\nGreenwood Memorial Day Celebration\nPhoenix\, Arizona – 05-27-19\n\n\n\nABOUT THE MISSION: \nGreenwood Memorial Lawn and Cemetery will be hosting a very special Memorial Day Celebration. This is an annual observation and it is the first year that the Patriot Guard Riders have been invited to participate. We have been asked to stand a flag line in honor of our veterans for the opening of their program. Following the flag line we are invited to participate in their celebration. They will have a variety of activities: classic cars; classic military vehicles; a RC club that will display many radio control military aircraft; possible Huey helicopter flown in combat; free food and soda; plus other displays.\n\n\nPRIMARY STAGING DETAILS: 05-27-19 \nStaging Time: 8:00 am  \nGreenwood Memorial Lawn and Cemetery\n719 North 27th Ave\nPhoenix\, Arizona 85009\n\n\nRide Captain: \nDan Lazear\n480-223-8628\nazpgrdan@gmail.com\n\n\nSpecial Instructions: \nFlag Line Set: 8:30 A.M.\nCircle of Honor/Briefing Time: 9:00 A.M.\n\n\nFlags & Water:\nFlags will be provided\nIf you have large bike flags\, please bring them.\nWater will be provided.\n\n\nSubmitted By: Bill Wooster \nPosition: Arizona Assistant State Captain \n\nNote: You do not have to own/ride a motorcycle or be a veteran to join\, and membership is Free. The only requirement is RESPECT! To subscribe to receive mission notices\, log into the National Site and click on the Members tab at the top. Select the Subscribe to PGR Missions option.\n Print This Page
URL:https://www.patriotguard.org/mission/greenwood-memorial-day-celebration/
CATEGORIES:HOTH Mission
END:VEVENT
END:VCALENDAR