BEGIN:VCALENDAR
VERSION:2.0
PRODID:-//Patriot Guard Riders - ECPv5.3.2.1//NONSGML v1.0//EN
CALSCALE:GREGORIAN
METHOD:PUBLISH
X-WR-CALNAME:Patriot Guard Riders
X-ORIGINAL-URL:https://www.patriotguard.org
X-WR-CALDESC:Events for Patriot Guard Riders
BEGIN:VTIMEZONE
TZID:America/New_York
BEGIN:DAYLIGHT
TZOFFSETFROM:-0500
TZOFFSETTO:-0400
TZNAME:EDT
DTSTART:20190310T070000
END:DAYLIGHT
BEGIN:STANDARD
TZOFFSETFROM:-0400
TZOFFSETTO:-0500
TZNAME:EST
DTSTART:20191103T060000
END:STANDARD
END:VTIMEZONE
BEGIN:VEVENT
DTSTART;VALUE=DATE:20190927
DTEND;VALUE=DATE:20190928
DTSTAMP:20210401T031318
CREATED:20190917T154134Z
LAST-MODIFIED:20190917T154134Z
UID:174528-1569542400-1569628799@www.patriotguard.org
SUMMARY:Grant Devereux Armstrong
DESCRIPTION:  \n\nHonor Mission\nGrant Devereux Armstrong\, Veteran\nUSA –  Vietnam\nMULTI-CITY\, Florida  09-27-19\n\n\n \n\nABOUT THE MISSION: \nThe family of Grant Armstrong has requested the Patriot Guard Riders presence as they show their final respects and lay their loved one to rest. Grant faithfully served his country in the U.S. Army and received an Honorable Discharge. No further military information is available. Please bring your 3 X 5 American flags and stand in honor and respect for our hero and his family.\n\n\nPRIMARY STAGING DETAILS: 09-27-19 \nStaging Time: 11:15 AM  \nLowes Home Improvement\n4660 South Street\nTitusville\, Florida 32780\nhttp://tinyurl.com/yxgdpxtz\n\n\nRide Captain: \nDon “Chez” Chesbro\nchez.fire@gmail.com\n717-554-4086\n\n\nSpecial Instructions: \nThis is an escort to CCNC\, Large Flag Bikes are requested. Rolling Thunder has the lead on this escort.\n\n11:30 AM – Brief\n11:40 AM – KSU for CCNC or as directed by Rolling Thunder\n\n\nFlags & Water:\nFlags will not be provided\nIf you have large bike flags\, please bring them.\nWater WILL NOT be provided\, please bring your own.\n\nSTAGING #2 DETAILS: 09-27-19 \nStaging Time: 11:45 AM  \nCape Canaveral National Cemetery\n5525 US 1\nMims\, Florida 32754\nhttp://tinyurl.com/yxr5fe8k\n\n\nRide Captain: \nWilliam “Bugler” Dodds\nbilldodds@earthlink.com\n321-543-8142\n\n\nSpecial Instructions: \n12:00 PM – Brief\n12:30 PM – Service\nFlag Line as directed by the RC.\n\n\nFlags & Water:\nFlags will not be provided\nLarge Bike Flags will NOT be needed.\nWater WILL NOT be provided\, please bring your own.\n  \n\n\nSubmitted By: Bernie Conner \nPosition: Florida Assistant State Captain \n\nNote: You do not have to own/ride a motorcycle or be a veteran to join\, and membership is Free. The only requirement is RESPECT! To subscribe to receive mission notices\, log into the National Site and click on the Members tab at the top. Select the Subscribe to PGR Missions option.\n Print This Page
URL:https://www.patriotguard.org/mission/grant-devereux-armstrong/
CATEGORIES:Honor Mission
END:VEVENT
END:VCALENDAR