BEGIN:VCALENDAR
VERSION:2.0
PRODID:-//Patriot Guard Riders - ECPv5.3.2.1//NONSGML v1.0//EN
CALSCALE:GREGORIAN
METHOD:PUBLISH
X-WR-CALNAME:Patriot Guard Riders
X-ORIGINAL-URL:https://www.patriotguard.org
X-WR-CALDESC:Events for Patriot Guard Riders
BEGIN:VTIMEZONE
TZID:America/New_York
BEGIN:DAYLIGHT
TZOFFSETFROM:-0500
TZOFFSETTO:-0400
TZNAME:EDT
DTSTART:20190310T070000
END:DAYLIGHT
BEGIN:STANDARD
TZOFFSETFROM:-0400
TZOFFSETTO:-0500
TZNAME:EST
DTSTART:20191103T060000
END:STANDARD
END:VTIMEZONE
BEGIN:VEVENT
DTSTART;VALUE=DATE:20190814
DTEND;VALUE=DATE:20190815
DTSTAMP:20210402T131720
CREATED:20190812T133547Z
LAST-MODIFIED:20190812T133655Z
UID:170031-1565740800-1565827199@www.patriotguard.org
SUMMARY:Gordon Wesley King
DESCRIPTION:Honor Mission\nGordon Wesley King\, Veteran\nUSA – Vietnam\nGrand Junction\, Colorado – 08-14-19\n\n\n\nABOUT THE MISSION: \nGordon enlisted and served in the Military Intelligence Corps and then last 13 months of enlistment were spent in Vietnam where he interrogated Vietnamese POW’s. He returned to civilian life and earned a Bachelor of Arts in Economics and worked with the Colorado Public Utilities Commission.\n\n\nPRIMARY STAGING DETAILS: 08-14-19 \nStaging Time: 9:15 am  \nShelter area\nVeterans Memorial Cemetery\n2830 Riverside Parkway\nGrand Junction\, Colorado 81501\n\n\nRide Captain: \nArt(groady) Edwards\n970-250-1174\n\n\n\n\nFlags & Water:\nFlags will be provided\nLarge Bike Flags will NOT be needed.\nWater will be provided.\n\nSubmitted By: Arthur Edwards \nPosition: Colorado Assistant State Captain \n\nNote: You do not have to own/ride a motorcycle or be a veteran to join\, and membership is Free. The only requirement is RESPECT! To subscribe to receive mission notices\, log into the National Site and click on the Members tab at the top. Select the Subscribe to PGR Missions option.\n Print This Page
URL:https://www.patriotguard.org/mission/gordon-wesley-king/
CATEGORIES:Honor Mission
END:VEVENT
END:VCALENDAR