BEGIN:VCALENDAR
VERSION:2.0
PRODID:-//Patriot Guard Riders - ECPv5.3.2.1//NONSGML v1.0//EN
CALSCALE:GREGORIAN
METHOD:PUBLISH
X-WR-CALNAME:Patriot Guard Riders
X-ORIGINAL-URL:https://www.patriotguard.org
X-WR-CALDESC:Events for Patriot Guard Riders
BEGIN:VTIMEZONE
TZID:America/New_York
BEGIN:DAYLIGHT
TZOFFSETFROM:-0500
TZOFFSETTO:-0400
TZNAME:EDT
DTSTART:20190310T070000
END:DAYLIGHT
BEGIN:STANDARD
TZOFFSETFROM:-0400
TZOFFSETTO:-0500
TZNAME:EST
DTSTART:20191103T060000
END:STANDARD
END:VTIMEZONE
BEGIN:VEVENT
DTSTART;VALUE=DATE:20190708
DTEND;VALUE=DATE:20190709
DTSTAMP:20210404T062559
CREATED:20190707T003045Z
LAST-MODIFIED:20190707T003045Z
UID:166619-1562544000-1562630399@www.patriotguard.org
SUMMARY:Gordon R. Breeding
DESCRIPTION:Honor Mission\nGordon R. Breeding\, Veteran\nUSA – WWII\nHolly\, Michigan – 07-08-19\n\n\n\nABOUT THE MISSION: \nThe family of Gordon R. Breeding has invited the Patriot Guard Riders to stand in honor of his service to our country. Mr. Breeding was born 5 Jun 1923\, and died 19 Jun 19. He was in the 8th Air Force\, 34th Bombardment Group\, 18th Bombardment Squadron in the European Theatre of Operations from 22 Apr 1944 to 14 Jan 1945. His Missions took him to Normandy\, Northern France\, Rhineland\, and the general Air Offensive in Europe. He flew in the Consolidated B-24 Dugan Wagon plane\, 17 missions as Front Gunner\, with 12 of those Missions in the Lead Plane. He then flew in the Boeing B-17: 10 Missions as the Waist Gunner. After the Military\, Mr. Breeding worked at and retired as the Quality Control Manager of an automobile tubing facility in Luzerne Michigan. He is survived by his wife\, daughter and extended family.\nObituary\n\n\nPRIMARY STAGING DETAILS: 07-08-19 \nStaging Time: 11:45 AM\n \nMcDonald’s\n15187 N. Holly Rd.\nHolly\, Michigan 48442\nMap\n\n\nRide Captain: \nVITO\n(586) 909-6901\n\n\nSpecial Instructions: \nBriefing: 12:20 PM\nKSU: 12:35 PM\nService: 1:00 PM\nPlease bring your 3′ x 5′ American Flag to Stand for Mr. Breeding.\n\n\nFlags & Water:\nFlags will not be provided\nLarge Bike Flags will NOT be needed.\nWater WILL NOT be provided\, please bring your own.\n\n\n\nSubmitted By: Terrence Laurencelle \nPosition: Michigan Ride Captain \n\nNote: You do not have to own/ride a motorcycle or be a veteran to join\, and membership is Free. The only requirement is RESPECT! To subscribe to receive mission notices\, log into the National Site and click on the Members tab at the top. Select the Subscribe to PGR Missions option.\n Print This Page
URL:https://www.patriotguard.org/mission/gordon-r-breeding/
CATEGORIES:Honor Mission
END:VEVENT
END:VCALENDAR