BEGIN:VCALENDAR
VERSION:2.0
PRODID:-//Patriot Guard Riders - ECPv5.3.2.1//NONSGML v1.0//EN
CALSCALE:GREGORIAN
METHOD:PUBLISH
X-WR-CALNAME:Patriot Guard Riders
X-ORIGINAL-URL:https://www.patriotguard.org
X-WR-CALDESC:Events for Patriot Guard Riders
BEGIN:VTIMEZONE
TZID:America/New_York
BEGIN:DAYLIGHT
TZOFFSETFROM:-0500
TZOFFSETTO:-0400
TZNAME:EDT
DTSTART:20190310T070000
END:DAYLIGHT
BEGIN:STANDARD
TZOFFSETFROM:-0400
TZOFFSETTO:-0500
TZNAME:EST
DTSTART:20191103T060000
END:STANDARD
END:VTIMEZONE
BEGIN:VEVENT
DTSTART;VALUE=DATE:20190427
DTEND;VALUE=DATE:20190428
DTSTAMP:20210403T102802
CREATED:20190426T092044Z
LAST-MODIFIED:20190426T092044Z
UID:158566-1556323200-1556409599@www.patriotguard.org
SUMMARY:Gordon “Gordy” A. Knight
DESCRIPTION:Honor Mission\nGordon “Gordy” A. Knight\, Veteran\nUSA – Korea\nAbbotsford\, Wisconsin – 04-27-19\n\n\n\nABOUT THE MISSION: \nGordon “Gordy” A. Knight\, age 86\, of Colby passed away on Wednesday\, April 17\, 2019 at the VA Medical Center in Tomah. Gordy was born on January 7\, 1933\, the son of Chester and Anna Knight in Curtiss. He graduated from Abbotsford High School in 1950 and then served in the U.S. Army attaining the rank of Corporal during the Korean War from 1952-54. Gordy was a member of the Colby VFW Post #2227. His family has requested as many motorcycles as possible as Gordy’s first job was as a motorcycle officer on a Harley. His daughter is Commander of Colby VFW Post #2227 and will be leading Military Honors.\n\n\nPRIMARY STAGING DETAILS: 04-27-19 \nStaging Time: 11:00 AM\n \nMaurina-Schilling Funeral Homes\n203 N 4th St.\nAbbotsford\, Wisconsin\n\n\nRide Captain: \nJerry Beiersdorf\njerryb9200@juno.com\n\n\nSpecial Instructions: \nStaging 11:00 a.m.\nVisitation 12:00 noon\nService 1:00 p.m.\nEscort to burial at Abbotsford Public Cemetery.\nMilitary Honors provided the Colby VFW Post #2227.\n\n\nFlags & Water:\nFlags will be provided\nIf you have large bike flags\, please bring them.\nWater WILL NOT be provided\, please bring your own.\n\n\n\nSubmitted By: John Curran \nPosition: Wisconsin State Captain \n\nNote: You do not have to own/ride a motorcycle or be a veteran to join\, and membership is Free. The only requirement is RESPECT! To subscribe to receive mission notices\, log into the National Site and click on the Members tab at the top. Select the Subscribe to PGR Missions option.\n Print This Page
URL:https://www.patriotguard.org/mission/gordon-gordy-a-knight/
CATEGORIES:Honor Mission
END:VEVENT
END:VCALENDAR