BEGIN:VCALENDAR
VERSION:2.0
PRODID:-//Patriot Guard Riders - ECPv5.3.2.1//NONSGML v1.0//EN
CALSCALE:GREGORIAN
METHOD:PUBLISH
X-WR-CALNAME:Patriot Guard Riders
X-ORIGINAL-URL:https://www.patriotguard.org
X-WR-CALDESC:Events for Patriot Guard Riders
BEGIN:VTIMEZONE
TZID:America/New_York
BEGIN:DAYLIGHT
TZOFFSETFROM:-0500
TZOFFSETTO:-0400
TZNAME:EDT
DTSTART:20210314T070000
END:DAYLIGHT
BEGIN:STANDARD
TZOFFSETFROM:-0400
TZOFFSETTO:-0500
TZNAME:EST
DTSTART:20211107T060000
END:STANDARD
END:VTIMEZONE
BEGIN:VEVENT
DTSTART;VALUE=DATE:20210402
DTEND;VALUE=DATE:20210403
DTSTAMP:20210404T082417
CREATED:20210401T034043Z
LAST-MODIFIED:20210401T034043Z
UID:573454-1617321600-1617407999@www.patriotguard.org
SUMMARY:Glenn Taylor
DESCRIPTION:Honor Mission\nGlenn Taylor\, Veteran\nUSA – Vietnam\nShreveport\, Louisiana – 04-02-21\n\n\n\nABOUT THE MISSION: \nMr. Taylor was born on January 24\, 1949 in Shreveport\, Louisiana and passed away on March 26\, 2021. He proudly served in the United States Army for 3 years. He is survived by one son and two daughters.\n\n\nPRIMARY STAGING DETAILS: 04-02-21 \nStaging Time: 09:45 AM\n \nCenturies Memorial Funeral Home\n8801 Mansfield Rd.\nShreveport\, Louisiana\n\n\nRide Captain: \nLouis McGinty\n318-751-8356\nlouis_mcginty@windstream.net\n\nAsst: Glenda McGinty\, 318-751-8359\, glmctx@gmail.com\n\n\nSpecial Instructions: \nStaging: 9:45 – 10:15 am\nBriefing: 10:15 am\nFlag line in place shortly after.\nAfter service\, will escort to grave side and stand flag line there.\nFurther Instructions given at briefing.\nWeather nice\n\n\nFlags & Water:\nFlags will be provided\nIf you have large bike flags\, please bring them.\nWater will be provided.\n\n\nSubmitted By: Louis McGinty \nPosition: Louisiana Assistant State Captain \n\nNote: You do not have to own/ride a motorcycle or be a veteran to join\, and membership is Free. The only requirement is RESPECT! To subscribe to receive mission notices\, log into the National Site and click on the Members tab at the top. Select the Subscribe to PGR Missions option.\n Print This Page
URL:https://www.patriotguard.org/mission/glenn-taylor/
CATEGORIES:Honor Mission
END:VEVENT
END:VCALENDAR