BEGIN:VCALENDAR
VERSION:2.0
PRODID:-//Patriot Guard Riders - ECPv5.6.0//NONSGML v1.0//EN
CALSCALE:GREGORIAN
METHOD:PUBLISH
X-WR-CALNAME:Patriot Guard Riders
X-ORIGINAL-URL:https://www.patriotguard.org
X-WR-CALDESC:Events for Patriot Guard Riders
BEGIN:VTIMEZONE
TZID:America/New_York
BEGIN:DAYLIGHT
TZOFFSETFROM:-0500
TZOFFSETTO:-0400
TZNAME:EDT
DTSTART:20210314T070000
END:DAYLIGHT
BEGIN:STANDARD
TZOFFSETFROM:-0400
TZOFFSETTO:-0500
TZNAME:EST
DTSTART:20211107T060000
END:STANDARD
END:VTIMEZONE
BEGIN:VEVENT
DTSTART;VALUE=DATE:20210511
DTEND;VALUE=DATE:20210513
DTSTAMP:20210513T033920
CREATED:20210511T145635Z
LAST-MODIFIED:20210511T145635Z
UID:577019-1620691200-1620863999@www.patriotguard.org
SUMMARY:Glenn Edward Carpenter
DESCRIPTION:Honor Mission\nGlenn Edward Carpenter\, Veteran\nUSA – WWII\nNewbern\, Tennessee – 05-11-21 & 05-12-21\n\n\n\nABOUT THE MISSION: \nOur great State of Tennessee has lost another Veteran Hero\, Sergeant Glenn Edward Carpenter\, 95\, passed on May 8th\, 2021. SGT Carpenter proudly served our nation in the US Army for Two years 1944 to 1946. During his time in service SGT Carpenter earned the following awards: Army Good Conduct Medal\, Army Occupation Medal\, European African Middle Eastern Theater Ribbon\, and World War II Victory Ribbon. The Patriot Guard Riders will honor SGT Carpenter for his service to this Great Nation and we are honored to do so.\n\n\nPRIMARY STAGING DETAILS: 05-11-21 \nStaging Time: 4:30 pm\n \nJohnson-Williams Funeral Home\n239 E Main St\nNewbern\, Tennessee 38059\nMap\n\n\nRide Captain: \nDon Bailey\n404-375-1941\ndonbailey@hotmail.com\n\n\nSpecial Instructions: \nFlag line for visitation from 5:00 PM until 7:00 PM.\n\nFlags & Water:\nFlags will be provided\nLarge Bike Flags will NOT be needed.\nWater WILL NOT be provided\, please bring your own.\n\nSTAGING #2 DETAILS: 05-12-21 \nStaging Time: 12:00 pm\n \nJohnson-Williams Funeral Home\n239 E Main St\nNewbern\, Tennessee 38059\nMap\n\n\nRide Captain: \nDon Bailey\n404-375-1941\ndonbailey@hotmail.com\n\n\nSpecial Instructions: \nFlag line for visitation from 12:30 PM until beginning of services at 1:00 PM. Following service escort to Poplar Grove Cemetery for internment and Military Honors.\n\nFlags & Water:\nFlags will be provided\nIf you have large bike flags\, please bring them.\nWater WILL NOT be provided\, please bring your own.\n\n  \n\n\nSubmitted By: Raymond Thedford \nPosition: Tennessee Assistant State Captain \n\nNote: You do not have to own/ride a motorcycle or be a veteran to join\, and membership is Free. The only requirement is RESPECT! To subscribe to receive mission notices\, log into the National Site and click on the Members tab at the top. Select the Subscribe to PGR Missions option.\n Print This Page
URL:https://www.patriotguard.org/mission/glenn-edward-carpenter/
CATEGORIES:Honor Mission
END:VEVENT
END:VCALENDAR