BEGIN:VCALENDAR
VERSION:2.0
PRODID:-//Patriot Guard Riders - ECPv5.3.2.1//NONSGML v1.0//EN
CALSCALE:GREGORIAN
METHOD:PUBLISH
X-WR-CALNAME:Patriot Guard Riders
X-ORIGINAL-URL:https://www.patriotguard.org
X-WR-CALDESC:Events for Patriot Guard Riders
BEGIN:VTIMEZONE
TZID:America/New_York
BEGIN:DAYLIGHT
TZOFFSETFROM:-0500
TZOFFSETTO:-0400
TZNAME:EDT
DTSTART:20190310T070000
END:DAYLIGHT
BEGIN:STANDARD
TZOFFSETFROM:-0400
TZOFFSETTO:-0500
TZNAME:EST
DTSTART:20191103T060000
END:STANDARD
END:VTIMEZONE
BEGIN:VEVENT
DTSTART;VALUE=DATE:20190802
DTEND;VALUE=DATE:20190803
DTSTAMP:20210402T113458
CREATED:20190731T091014Z
LAST-MODIFIED:20190731T091014Z
UID:169298-1564704000-1564790399@www.patriotguard.org
SUMMARY:Glenn E. "Oscar" "Woody" Held
DESCRIPTION:Honor Mission\nGlenn E. “Oscar” “Woody” Held\, Retired\nUSAF\, USAR\, USAFR – Vietnam\nConcordia\, Missouri – 08-02-19\n\n\n\nABOUT THE MISSION: \nThe family of United States Air Force Chief Master Sergeant Glenn E. “Oscar” “Woody” Held has requested the Patriot Guard to escort this hero to his final resting place at Missouri Veterans Cemetery\, Higginsville Missouri\n\n\nPRIMARY STAGING DETAILS: 08-02-19 \nStaging Time: 12:30 pm\n \n1002 E. 1st\nConcordia\, Missouri 64020\n\n\nRide Captain: \nRichard A. Maxwell\nrmax55m@gmail.com\n660-909-4888\n\n\nSpecial Instructions: \n12:30 pm Ride Briefing\n1:15 pm Escort\n2:00 pm Interment\, Missouri Veterans Cemetery\n\n\nFlags & Water:\nFlags will not be provided\nIf you have large bike flags\, please bring them.\nWater WILL NOT be provided\, please bring your own.\n\n\n\nSubmitted By: Richard Maxwell \nPosition: Missouri Ride Captain \n\nNote: You do not have to own/ride a motorcycle or be a veteran to join\, and membership is Free. The only requirement is RESPECT! To subscribe to receive mission notices\, log into the National Site and click on the Members tab at the top. Select the Subscribe to PGR Missions option.\n Print This Page
URL:https://www.patriotguard.org/mission/glenn-e-oscar-woody-held/
CATEGORIES:Honor Mission
END:VEVENT
END:VCALENDAR