BEGIN:VCALENDAR
VERSION:2.0
PRODID:-//Patriot Guard Riders - ECPv5.3.2.1//NONSGML v1.0//EN
CALSCALE:GREGORIAN
METHOD:PUBLISH
X-WR-CALNAME:Patriot Guard Riders
X-ORIGINAL-URL:https://www.patriotguard.org
X-WR-CALDESC:Events for Patriot Guard Riders
BEGIN:VTIMEZONE
TZID:America/New_York
BEGIN:DAYLIGHT
TZOFFSETFROM:-0500
TZOFFSETTO:-0400
TZNAME:EDT
DTSTART:20210314T070000
END:DAYLIGHT
BEGIN:STANDARD
TZOFFSETFROM:-0400
TZOFFSETTO:-0500
TZNAME:EST
DTSTART:20211107T060000
END:STANDARD
END:VTIMEZONE
BEGIN:VEVENT
DTSTART;VALUE=DATE:20210403
DTEND;VALUE=DATE:20210404
DTSTAMP:20210404T082800
CREATED:20210401T045107Z
LAST-MODIFIED:20210401T045107Z
UID:573455-1617408000-1617494399@www.patriotguard.org
SUMMARY:Glenda Miller England
DESCRIPTION:Honor Mission\nGlenda Miller England\, Veteran\nUSA –\nFlorence\, Alabama – 04-03-21\n\n\n\nABOUT THE MISSION: \nThe family of Glenda Miller England have asked the Patriot Guard to honor their loved one by standing a silent flag line at her Memorial Service. We are Honored to do so. Glenda England stood for us……now is the time to stand for her. Glenda England (68) was in the U S Army and served with distinction. Glenda England’s brother-in law is PGR member Jeff Jolly of Tuscaloosa.\n\n\nPRIMARY STAGING DETAILS: 04-03-21 \nStaging Time: 11:00 AM\n \nSpry Williams Funeral Home Chapel\n1950 Helton Dr.\nFlorence\, Alabama 35603\n\n\nRide Captain: \nEddie Craig\nfasteddie@pchnet.net\n256-777-2290\n\n\nSpecial Instructions: \nPlace flags. Set flag line.\nFamily arrives at 11:30 am.\n\n\nFlags & Water:\nFlags will be provided\nLarge Bike Flags will NOT be needed.\nWater WILL NOT be provided\, please bring your own.\n\n\nSubmitted By: John Cooper \nPosition: Alabama Ride Captain \n\nNote: You do not have to own/ride a motorcycle or be a veteran to join\, and membership is Free. The only requirement is RESPECT! To subscribe to receive mission notices\, log into the National Site and click on the Members tab at the top. Select the Subscribe to PGR Missions option.\n Print This Page
URL:https://www.patriotguard.org/mission/glenda-miller-england/
CATEGORIES:Honor Mission
END:VEVENT
END:VCALENDAR