BEGIN:VCALENDAR
VERSION:2.0
PRODID:-//Patriot Guard Riders - ECPv5.3.2.1//NONSGML v1.0//EN
CALSCALE:GREGORIAN
METHOD:PUBLISH
X-WR-CALNAME:Patriot Guard Riders
X-ORIGINAL-URL:https://www.patriotguard.org
X-WR-CALDESC:Events for Patriot Guard Riders
BEGIN:VTIMEZONE
TZID:America/New_York
BEGIN:DAYLIGHT
TZOFFSETFROM:-0500
TZOFFSETTO:-0400
TZNAME:EDT
DTSTART:20190310T070000
END:DAYLIGHT
BEGIN:STANDARD
TZOFFSETFROM:-0400
TZOFFSETTO:-0500
TZNAME:EST
DTSTART:20191103T060000
END:STANDARD
END:VTIMEZONE
BEGIN:VEVENT
DTSTART;VALUE=DATE:20190905
DTEND;VALUE=DATE:20190906
DTSTAMP:20210401T104950
CREATED:20190903T220359Z
LAST-MODIFIED:20190903T220359Z
UID:172655-1567641600-1567727999@www.patriotguard.org
SUMMARY:Glen Wilson Finley
DESCRIPTION:Honor Mission\nGlen Wilson Finley\, Retired\nUSA – Korea\, Vietnam\nPensacola\, Florida – 09-05-19\n\n\n\nABOUT THE MISSION: \nIt is with deep regret to announce that we have lost another veteran\, SGM Glen W. Finley. The Patriot Guard has been graciously invited by the family to escort him to his final resting place and stand a silent flag line in his honor at Barrancas National Cemetery. SGM Glen W. Finley honorably served in the United States Army for nearly 30 years and departed this earth at age 89. He received the following awards: Bronze Star w/ Oak Leaf Cluster\, Good Conduct Medal 10th Award\, National Defense Service Medal w/Oak Leaf Cluster\, Korean Service Medal\, Republic of Korea Presidential Unit Citation\, Vietnam Service Medal\, and the Vietnam Cross of Gallantry w/Palm.\n\n\nPRIMARY STAGING DETAILS: 09-05-19 \nStaging Time: 10:45 AM\n \nWhataburger\n1313 N. New Warrington Rd\nPensacola\, Florida\n\n\nRide Captain: \nCam “Chief” Hatton\nCameron.hatton@gmail.com.\n(503) 706-6930\n\n\nSpecial Instructions: \nNAS requires long sleeve shirts and trousers\, long fingered gloves\, DOT approved helmets\, leather footwear covering the ankles and proper eye protection always be worn while riding on the installation.\n11:30 – Safety briefing for all riders.\n11:45 – KSU to Oak Lawn Funeral Home\, 610 N. New Warrington Road.\n12:15 – Arrival at Oak Lawn Funeral Home.\n12:30 – KSU to Barrancas National Cemetery w/LEO Escort.\n1:00 – Honors at Barrancas National Cemetery.\n\n\nFlags & Water:\nFlags will be provided\nIf you have large bike flags\, please bring them.\nWater will be provided.\n\n\n\nSubmitted By: Ray Doyle \nPosition: Florida Assistant State Captain \n\nNote: You do not have to own/ride a motorcycle or be a veteran to join\, and membership is Free. The only requirement is RESPECT! To subscribe to receive mission notices\, log into the National Site and click on the Members tab at the top. Select the Subscribe to PGR Missions option.\n Print This Page
URL:https://www.patriotguard.org/mission/glen-wilson-finley/
CATEGORIES:Honor Mission
END:VEVENT
END:VCALENDAR