BEGIN:VCALENDAR
VERSION:2.0
PRODID:-//Patriot Guard Riders - ECPv5.3.2.1//NONSGML v1.0//EN
CALSCALE:GREGORIAN
METHOD:PUBLISH
X-WR-CALNAME:Patriot Guard Riders
X-ORIGINAL-URL:https://www.patriotguard.org
X-WR-CALDESC:Events for Patriot Guard Riders
BEGIN:VTIMEZONE
TZID:America/New_York
BEGIN:DAYLIGHT
TZOFFSETFROM:-0500
TZOFFSETTO:-0400
TZNAME:EDT
DTSTART:20210314T070000
END:DAYLIGHT
BEGIN:STANDARD
TZOFFSETFROM:-0400
TZOFFSETTO:-0500
TZNAME:EST
DTSTART:20211107T060000
END:STANDARD
END:VTIMEZONE
BEGIN:VEVENT
DTSTART;VALUE=DATE:20210401
DTEND;VALUE=DATE:20210402
DTSTAMP:20210404T080659
CREATED:20210401T011141Z
LAST-MODIFIED:20210401T011141Z
UID:573493-1617235200-1617321599@www.patriotguard.org
SUMMARY:Glen Michael White
DESCRIPTION:Honor Mission\nGlen Michael White\, Veteran\nUSN –\nDallas\, Texas – 04-01-21\n\n\n\nABOUT THE MISSION: \nMr. White enlisted in the United States Navy on May 5\, 1973. He served aboard the USS Thomas Jefferson (SSBN 618)\, as an Ordnance Mechanic\, achieving the rank of TM3 before his honorable discharge on March 22\, 1977.\n\n\nPRIMARY STAGING DETAILS: 04-01-21 \nStaging Time: 09:15 AM\n \nDFW National Cemetery Information Center\n2000 Mountain Creek Pkwy\nDallas\, Texas 75211\n\n\nRide Captain: \nBill Kushnir\nbpkush@gte.net\n(214) 995-1536\n\n\nSpecial Instructions: \nStaging Time: 0915\nBriefing Time: 0930\nIn Position/KSU Time: 0945\nStarting Time: 1000\nAfter the briefing\, Honor Bikes will be selected. Remaining riders will proceed to the designated shelter to set the flags.\nRiders will stand tall and silent during the interment service.\nAfter the service\, flags will be returned to the storage locker and riders will be debriefed and dismissed.\n\n\nFlags & Water:\nFlags will be provided\nIf you have large bike flags\, please bring them.\nWater WILL NOT be provided\, please bring your own.\n\n\nSubmitted By: Dan Mathys \nPosition: Texas Ride Captain \n\nNote: You do not have to own/ride a motorcycle or be a veteran to join\, and membership is Free. The only requirement is RESPECT! To subscribe to receive mission notices\, log into the National Site and click on the Members tab at the top. Select the Subscribe to PGR Missions option.\n Print This Page
URL:https://www.patriotguard.org/mission/glen-michael-white/
CATEGORIES:Honor Mission
END:VEVENT
END:VCALENDAR