BEGIN:VCALENDAR
VERSION:2.0
PRODID:-//Patriot Guard Riders - ECPv5.3.2.1//NONSGML v1.0//EN
CALSCALE:GREGORIAN
METHOD:PUBLISH
X-WR-CALNAME:Patriot Guard Riders
X-ORIGINAL-URL:https://www.patriotguard.org
X-WR-CALDESC:Events for Patriot Guard Riders
BEGIN:VTIMEZONE
TZID:America/New_York
BEGIN:DAYLIGHT
TZOFFSETFROM:-0500
TZOFFSETTO:-0400
TZNAME:EDT
DTSTART:20190310T070000
END:DAYLIGHT
BEGIN:STANDARD
TZOFFSETFROM:-0400
TZOFFSETTO:-0500
TZNAME:EST
DTSTART:20191103T060000
END:STANDARD
END:VTIMEZONE
BEGIN:VEVENT
DTSTART;VALUE=DATE:20190802
DTEND;VALUE=DATE:20190803
DTSTAMP:20210402T113324
CREATED:20190731T150802Z
LAST-MODIFIED:20190731T150802Z
UID:169288-1564704000-1564790399@www.patriotguard.org
SUMMARY:Glen Jackson
DESCRIPTION:Honor Mission\nGlen Jackson\, Veteran\nUSMC – Korea\nSpringfield\, Missouri – 08-02-19\n\n\n\n\nABOUT THE MISSION: \nThe Patriot Guard Riders have been asked to stand a flag line of honor and respect for USMC veteran GLen Jackson.  USMC CPL Jackson served honorably and proudly from 1954 to 1956.  Hero Jackson worked as a power Shovel operator. He served in the Korean War. While in the service he received the National Defense Service Medal\, Korean Service Medal and United Nations Service Medal.\n\n\nPRIMARY STAGING DETAILS: \n          08-02-19  9:15 a.m. \n          Missouri Veterans Cemetery\nSpringfield\, Missouri 65802 \n\n\nRide Captain: \nRobert Willis\n(573) 248-6000\nFxdx01@hotmail.com\n\n\nSpecial Instructions:\n \n\n\nFlags & Water:\nFlags will be provided\nLarge Bike Flags will NOT be needed.\nWater WILL NOT be provided\, please bring your own.\n\n\n\n\nSubmitted By: Robert Willis \nPosition: Missouri Ride Captain \n\nNote: You do not have to own/ride a motorcycle or be a veteran to join\, and membership is Free. The only requirement is RESPECT! To subscribe to receive mission notices\, log into the National Site and click on the Members tab at the top. Select the Subscribe to PGR Missions option.\n Print This Page
URL:https://www.patriotguard.org/mission/glen-jackson/
CATEGORIES:Honor Mission
END:VEVENT
END:VCALENDAR