BEGIN:VCALENDAR
VERSION:2.0
PRODID:-//Patriot Guard Riders - ECPv5.3.2.1//NONSGML v1.0//EN
CALSCALE:GREGORIAN
METHOD:PUBLISH
X-WR-CALNAME:Patriot Guard Riders
X-ORIGINAL-URL:https://www.patriotguard.org
X-WR-CALDESC:Events for Patriot Guard Riders
BEGIN:VTIMEZONE
TZID:America/New_York
BEGIN:DAYLIGHT
TZOFFSETFROM:-0500
TZOFFSETTO:-0400
TZNAME:EDT
DTSTART:20160313T070000
END:DAYLIGHT
BEGIN:STANDARD
TZOFFSETFROM:-0400
TZOFFSETTO:-0500
TZNAME:EST
DTSTART:20161106T060000
END:STANDARD
END:VTIMEZONE
BEGIN:VEVENT
DTSTART;TZID=America/New_York:20161213T090000
DTEND;TZID=America/New_York:20161213T110000
DTSTAMP:20210404T194519
CREATED:20161213T140000Z
LAST-MODIFIED:20191201T140742Z
UID:407246-1481619600-1481626800@www.patriotguard.org
SUMMARY:Gilbert Lee Foster\, Jr
DESCRIPTION:Gilbert Lee Foster\, Jr\nUS Army Vietnam Era\nMartinsburg\, WV\n13 Dec 16\n\n\n\nThe Patriot Guard Riders have been invited to stand in silent Honor and Respect for SP4 Gilbert (Gil) Lee Foster\, Jr.\, U. S. Army Vietnam Era Veteran for his final service and interment on Tuesday\, 13 Dec 16. \nServices will be held at:\nFull Gospel Pentecostal Church\n36 Laing Dr.\nMartinsburg\, WV\n(http://tinyurl.com/jfc9xxg) beginning at 1100. \nWest Virginia District Captain Steve Chapman is the designated RCIC of this most Honorable mission. \nStaging will be at the church at 1000. \nBriefing at 1015. \nFlag line will be in place NLT 1030 and maintained until start of services. \nInterment will be in:\nGerrardstown Presbyterian Cemetery\n372 Dominion Rd.\nGerrardstown\, WV 25420. \nCemetery is located approximately 17.5 miles from the church.  At the present time\, PGR participation in the journey to the cemetery and in the graveside rites is NOT being requested.  This is\, however\, subject to change at the family’s request. \nWeather forecast for Tuesday is for partly cloudy skies\, 0% chance of precipitation and temperatures in the mid-40’s.  Please dress and travel according to the current conditions. \nWon’t you join with us as we say “Thank You” and “God Speed” to another of our native sons who willingly gave of himself for our freedom and liberty. \nRespects\,\nJoe Cumblidge\, SC
URL:https://www.patriotguard.org/mission/gilbert-lee-foster-jr/
CATEGORIES:Archive
END:VEVENT
END:VCALENDAR