BEGIN:VCALENDAR
VERSION:2.0
PRODID:-//Patriot Guard Riders - ECPv5.3.2.1//NONSGML v1.0//EN
CALSCALE:GREGORIAN
METHOD:PUBLISH
X-WR-CALNAME:Patriot Guard Riders
X-ORIGINAL-URL:https://www.patriotguard.org
X-WR-CALDESC:Events for Patriot Guard Riders
BEGIN:VTIMEZONE
TZID:America/New_York
BEGIN:DAYLIGHT
TZOFFSETFROM:-0500
TZOFFSETTO:-0400
TZNAME:EDT
DTSTART:20190310T070000
END:DAYLIGHT
BEGIN:STANDARD
TZOFFSETFROM:-0400
TZOFFSETTO:-0500
TZNAME:EST
DTSTART:20191103T060000
END:STANDARD
END:VTIMEZONE
BEGIN:VEVENT
DTSTART;VALUE=DATE:20190712
DTEND;VALUE=DATE:20190713
DTSTAMP:20210404T030022
CREATED:20190710T004936Z
LAST-MODIFIED:20190710T004936Z
UID:166748-1562889600-1562975999@www.patriotguard.org
SUMMARY:Gilbert Joseph Otts
DESCRIPTION:Honor Mission\nGilbert Joseph Otts\, Veteran\nUSMC – Vietnam\nHolly\, Michigan – 07-12-19\n\n\n\n\nABOUT THE MISSION: \nThe Family of Sgt. Gilbert J. Otts\, 76\, USMC\, has invited the Patriot Guard Riders to Stand in Honor of his service to our country. Gilbert served in the Marine Corps for a period of four years and four months. Gilbert enlisted in the Marine Corps in 1963\, and graduated top of his platoon at MCRD Parris Island\,SC. After recruit training\, he was selected to serve aboard the Aircraft Carrier USS Wasp (CV-18). Gilbert’s awards include: The Good Conduct Medal\, National Defense Service Medal\, Rifle Marksman Badge\, Pistol Marksman Badge and a Letter of Commendation.\n\nObituary\n\n\nPRIMARY STAGING DETAILS: 07-12-19 \nStaging Time: 09:15 a.m. \nMcDonald’s\n15187 N. Holly Rd.\nHolly\, Michigan 48442\nMap\n\n\nRide Captain: \nPatches\n(810) 348-0809\n\n\nSpecial Instructions: \nBriefing: 9:45 AM\nKSU: 10:00 AM\nService: 10:30 AM\n\nPlease bring your 3′ x 5′ American flag to stand for Mr. Otts.\n\n\nFlags & Water:\nFlags will not be provided\nLarge Bike Flags will NOT be needed.\nWater WILL NOT be provided\, please bring your own.\n\n\n\nSubmitted By: Terrence Laurencelle \nPosition: Michigan Ride Captain \n\nNote: You do not have to own/ride a motorcycle or be a veteran to join\, and membership is Free. The only requirement is RESPECT! To subscribe to receive mission notices\, log into the National Site and click on the Members tab at the top. Select the Subscribe to PGR Missions option.\n Print This Page
URL:https://www.patriotguard.org/mission/gilbert-joseph-otts/
CATEGORIES:Honor Mission
END:VEVENT
END:VCALENDAR