BEGIN:VCALENDAR
VERSION:2.0
PRODID:-//Patriot Guard Riders - ECPv5.3.2.1//NONSGML v1.0//EN
CALSCALE:GREGORIAN
METHOD:PUBLISH
X-WR-CALNAME:Patriot Guard Riders
X-ORIGINAL-URL:https://www.patriotguard.org
X-WR-CALDESC:Events for Patriot Guard Riders
BEGIN:VTIMEZONE
TZID:America/New_York
BEGIN:DAYLIGHT
TZOFFSETFROM:-0500
TZOFFSETTO:-0400
TZNAME:EDT
DTSTART:20170312T070000
END:DAYLIGHT
BEGIN:STANDARD
TZOFFSETFROM:-0400
TZOFFSETTO:-0500
TZNAME:EST
DTSTART:20171105T060000
END:STANDARD
END:VTIMEZONE
BEGIN:VEVENT
DTSTART;TZID=America/New_York:20170930T123000
DTEND;TZID=America/New_York:20170930T143000
DTSTAMP:20210402T035104
CREATED:20170930T163000Z
LAST-MODIFIED:20191201T033340Z
UID:335180-1506774600-1506781800@www.patriotguard.org
SUMMARY:Gilbert A. Rowley\, Veteran\, USA - Korea
DESCRIPTION:Gilbert A. Rowley\, Veteran\nUSA – Korea\nLivonia Center\, New York – 30 Sep 2017\n\n\n[HR][/HR]\nABOUT THE MISSION: \n\nWe have been requested to stand in Honor of the Korean War Service of Gilbert A. Rowley of Hemlock\, NY who passed away on September 26th. Mr. Rowley served in the US Army from 1951-1953\, including 14 months in Korea and Japan. He was Honorably Discharged on 6 May 1953 with the rank of Sergeant\, and was awarded: National Defense Service Medal; Korean Service Medal; United Nations Service Medal-Korea. Obituary: http://doughertyfuneralhomes.com/Obits/?p=8154\n\n\nPRIMARY STAGING DETAILS: 30 Sep 2017\nPrimary Staging Time: 12:30 P.M. \n\nFirst Presbyterian Church of Livonia\n3837 Center Street\nLivonia Center\, New York – 14488\nhttp://mapq.st/2k5ME8Q\n\n\nRide Captain: \n\nTerry Garigen\nterrgari@hotmail.com\n\n\nSpecial Instructions: \n\nFlag Line for arrival of family and friends.\nMemorial Service at 1:30 P.M.\nFollowed by Dignified Escort to Lakeview Cemetery\, 4910 County Road 36\, Honeoye\, NY.\nBurial with Military Honors.\nPlease arrive on time with a clean 3×5 American Flag or US Army flag and dress for the weather.\nPlease ensure your large bike flags are properly placed and securely attached.\nThank you for anything you can do to help Honor the Korean War Service of Gilbert Rowley and to support his loving family.\n\n\nFlags & Water: \n\nFlags Will NOT Be Provided\, Please Bring Your Own.\nIf you have large bike flags\, please bring them.\nWater WILL NOT be provided\, please bring your own.\n\n\nSubmitted By: Ray Sestak\nPosition: Ride Captain\n[HR][/HR]Note:\nYou do not have to own/ride a motorcycle or be a Veteran to join and membership is Free. The only requirement is RESPECT! To join\, simply go to www.PatriotGuard.org and click on Register. Membership is Free. \nTo subscribe to receive mission notices\, log into the National Site and click on the Mission Tab at the top. Select the Subscribe to Missionsoption.
URL:https://www.patriotguard.org/mission/gilbert-a-rowley-veteran-usa-korea/
END:VEVENT
END:VCALENDAR