BEGIN:VCALENDAR
VERSION:2.0
PRODID:-//Patriot Guard Riders - ECPv5.6.0//NONSGML v1.0//EN
CALSCALE:GREGORIAN
METHOD:PUBLISH
X-WR-CALNAME:Patriot Guard Riders
X-ORIGINAL-URL:https://www.patriotguard.org
X-WR-CALDESC:Events for Patriot Guard Riders
BEGIN:VTIMEZONE
TZID:America/New_York
BEGIN:DAYLIGHT
TZOFFSETFROM:-0500
TZOFFSETTO:-0400
TZNAME:EDT
DTSTART:20160313T070000
END:DAYLIGHT
BEGIN:STANDARD
TZOFFSETFROM:-0400
TZOFFSETTO:-0500
TZNAME:EST
DTSTART:20161106T060000
END:STANDARD
END:VTIMEZONE
BEGIN:VEVENT
DTSTART;TZID=America/New_York:20160730T090000
DTEND;TZID=America/New_York:20160730T110000
DTSTAMP:20210512T143449
CREATED:20160730T130000Z
LAST-MODIFIED:20191201T143944Z
UID:410250-1469869200-1469876400@www.patriotguard.org
SUMMARY:Gerald Yardley\, USA
DESCRIPTION:The Patriot Guard Riders have been honored with a request from the family of Gerald “Butch” Yardley to stand a Flag Line and escort their loved on to his final resting place.\n\nMr. Yardley served his country with honor and distinction in the United States Army\, including one tour in Vietnam.  He passed away on 26 July 2016 at the age of 70 years.  One of Mr. Yardley’s hobbies was riding his motorcycle.\n\nThe PGR will stage at Duncan Funeral Home\, 3rd & Sapper Street in Winona\, MO on Saturday 30 July 2016 at 12:00 pm.  A briefing will be held at 12:15 pm followed by a Flag Line from 12:30 pm-1:00 pm.  Following the service\, Mr. Yardley will be escorted to final resting place at Pinelawn Cemetery\, Highway H and Cemetery Road near Winona.\n\nPlease\, HYDRATE\, HYDRATE\, HYDRATE.\n\nRide Captain in Charge:  Dennis Patterson\n417-252-4231\noldhondarider67@hotmail.com
URL:https://www.patriotguard.org/mission/gerald-yardley-usa/
CATEGORIES:Archive
END:VEVENT
END:VCALENDAR