BEGIN:VCALENDAR
VERSION:2.0
PRODID:-//Patriot Guard Riders - ECPv5.3.2.1//NONSGML v1.0//EN
CALSCALE:GREGORIAN
METHOD:PUBLISH
X-WR-CALNAME:Patriot Guard Riders
X-ORIGINAL-URL:https://www.patriotguard.org
X-WR-CALDESC:Events for Patriot Guard Riders
BEGIN:VTIMEZONE
TZID:America/New_York
BEGIN:DAYLIGHT
TZOFFSETFROM:-0500
TZOFFSETTO:-0400
TZNAME:EDT
DTSTART:20190310T070000
END:DAYLIGHT
BEGIN:STANDARD
TZOFFSETFROM:-0400
TZOFFSETTO:-0500
TZNAME:EST
DTSTART:20191103T060000
END:STANDARD
END:VTIMEZONE
BEGIN:VEVENT
DTSTART;VALUE=DATE:20190814
DTEND;VALUE=DATE:20190816
DTSTAMP:20210402T083134
CREATED:20190814T132818Z
LAST-MODIFIED:20190814T133159Z
UID:170839-1565740800-1565913599@www.patriotguard.org
SUMMARY:Gerald Wayne Benthall
DESCRIPTION:Honor Mission\nGerald Wayne Benthall\, Veteran\nUSAF\, ANG – GW/ODS\, WoT\nMeridian\, Mississippi – 08-14-19\n\n\n\nABOUT THE MISSION: \nSMSgt. Benthall proudly and honorably served his country in U.S. Air Force Air Guard with 185th Aircraft Maintenance Sq.(ANC). His medals and ribbons include Air Force Commendation Medal\, Air Force Achievement Medal\, Air Force Outstanding Unit Award w/1 Oak Leaf Cluster\, Air Reserve Forces Meritorious Service Medal w/8 Oak Leaf Clusters\, National Defense Service Medal w/1 Service Star\, Global War on Terrorism Service Medal\, Armed Forces Service Medal\, Humanitarian Service Medal\, Air Force Longevity Service Medal w/5 Oak Leaf Clusters\, Operation Enduring Freedom Service Medal.\n\n\nPRIMARY STAGING DETAILS: 08-14-19 \nStaging Time: 4:15 pm\n \nRobert Barham Funeral Home\n6300 Hwy 39 North\nMeridian\, Mississippi 39305\n\n\nRide Captain: \nByron Madison\n601-227-1374\n\nH. L. Henley\n601-479-5807\n\n\n\n\nFlags & Water:\nFlags will be provided\nLarge Bike Flags will NOT be needed.\nWater WILL NOT be provided\, please bring your own.\n\nSTAGING #2 DETAILS: 08-15-19 \nStaging Time: 10:15 am\n \nRobert Barham Funeral Home\n6300 Hwy 39 North\nMeridian\, Mississippi 39305\n\n\nRide Captain: \nByron Madison\n601-227-1374\n\nH. L. Henley\n601-479-5807\n\n\n\n\nFlags & Water:\nFlags will be provided\nIf you have large bike flags\, please bring them.\nWater WILL NOT be provided\, please bring your own.\n\n\nSubmitted By: Roger Barrett \nPosition: Mississippi State Captain \n\nNote: You do not have to own/ride a motorcycle or be a veteran to join\, and membership is Free. The only requirement is RESPECT! To subscribe to receive mission notices\, log into the National Site and click on the Members tab at the top. Select the Subscribe to PGR Missions option.\n Print This Page
URL:https://www.patriotguard.org/mission/gerald-wayne-benthall/
CATEGORIES:Honor Mission
END:VEVENT
END:VCALENDAR