BEGIN:VCALENDAR
VERSION:2.0
PRODID:-//Patriot Guard Riders - ECPv5.6.0//NONSGML v1.0//EN
CALSCALE:GREGORIAN
METHOD:PUBLISH
X-WR-CALNAME:Patriot Guard Riders
X-ORIGINAL-URL:https://www.patriotguard.org
X-WR-CALDESC:Events for Patriot Guard Riders
BEGIN:VTIMEZONE
TZID:America/New_York
BEGIN:DAYLIGHT
TZOFFSETFROM:-0500
TZOFFSETTO:-0400
TZNAME:EDT
DTSTART:20160313T070000
END:DAYLIGHT
BEGIN:STANDARD
TZOFFSETFROM:-0400
TZOFFSETTO:-0500
TZNAME:EST
DTSTART:20161106T060000
END:STANDARD
END:VTIMEZONE
BEGIN:VEVENT
DTSTART;TZID=America/New_York:20160729T090000
DTEND;TZID=America/New_York:20160729T110000
DTSTAMP:20210512T121253
CREATED:20160729T130000Z
LAST-MODIFIED:20191201T144021Z
UID:410305-1469782800-1469790000@www.patriotguard.org
SUMMARY:Gerald R. Brown\, 59
DESCRIPTION:Gerald Ray Brown (59)\nUS Air Force\nRoseburg\, OR\n29/JUL/16\n\n\n\nLadies  and Gentlemen of the Patriot Guard Riders we have been invited by the  family of  Gerald (Jerry) Ray Brown\, US Air Force Veteran\, to stand to  honor him at his memorial service. He proudly  served in the Air Force from 1977 to 1978 at the rank of A1C (E3) as an  Aerospace Ground Equipment Specialist at Grissom Air Force Base Indiana. Please join us as we help support his family\, pay our respects\, and honor his service to our nation. \nMission Date:  Friday\, 29/July/2016 \nRide Captains:  Sparky/Terry Mooney\, linda.mooney@earthlink.net \nFlag Line Staging Location:\nRoseburg National Cemetery Annex\, South Entrance of the VAHCS off West Harvard\, Roseburg Oregon \nStaging Time: 1310hrs \nBriefing: 1315hrs \nFlag line Set: 1330hrs\n\nService Begins:  1400hrs \n***We will have flags.
URL:https://www.patriotguard.org/mission/gerald-r-brown-59/
CATEGORIES:Archive
END:VEVENT
END:VCALENDAR