BEGIN:VCALENDAR
VERSION:2.0
PRODID:-//Patriot Guard Riders - ECPv5.3.2.1//NONSGML v1.0//EN
CALSCALE:GREGORIAN
METHOD:PUBLISH
X-WR-CALNAME:Patriot Guard Riders
X-ORIGINAL-URL:https://www.patriotguard.org
X-WR-CALDESC:Events for Patriot Guard Riders
BEGIN:VTIMEZONE
TZID:America/New_York
BEGIN:DAYLIGHT
TZOFFSETFROM:-0500
TZOFFSETTO:-0400
TZNAME:EDT
DTSTART:20180311T070000
END:DAYLIGHT
BEGIN:STANDARD
TZOFFSETFROM:-0400
TZOFFSETTO:-0500
TZNAME:EST
DTSTART:20181104T060000
END:STANDARD
END:VTIMEZONE
BEGIN:VEVENT
DTSTART;VALUE=DATE:20180830
DTEND;VALUE=DATE:20180831
DTSTAMP:20210405T194331
CREATED:20180829T222154Z
LAST-MODIFIED:20180829T222154Z
UID:132664-1535587200-1535673599@www.patriotguard.org
SUMMARY:Gerald L. “Gary” Henderson
DESCRIPTION:Honor Mission\nGerald L. “Gary” Henderson \, Veteran\nUSA \, USAR –\nOmaha\, Nebraska – 08-30-18\n\n\n\n\nABOUT THE MISSION: \nThe family of Veteran Dr. Gerald L. “Gary” Henderson\, 68\, has requested a flag line at our Heroes funeral . He received his U.S. Army Officer Commission as a Medical Service Corps officer in 1972. Initially assigned to three years active duty service at Fort Riley\, Kansas\, he retired as a Major following a 20-plus-year career in the United States Army Reserve.\n\n\nPRIMARY STAGING DETAILS: 08-30-18 \nStaging Time: 09:30  \nWest Center Chapel\,\n7805 W. Center Rd.\nOmaha\, Nebraska\nMap\n\n\nRide Captain: \nDoug Dahl\ndougandjean44@q.com\n402-677-6173\nMichael Hendrick\nmhendrickomaha@yahoo.com\n402-660-4353\n\n\nSpecial Instructions: \nRIDERS MEETING: 9:50am FLAG LINE: 10:00am Following the funeral the we will escort our Hero to his final resting place at the Omaha National Cemetery. We will stand a Flag Line to Honor our Hero at the 1pm service at the Committal Shelter..Safety being paramount – ride only if conditions permit.\n\nFlags & Water:\nFlags will be provided\nIf you have large bike flags\, please bring them.\nWater WILL NOT be provided\, please bring your own.\n\n\n\nSubmitted By: Scott Knudsen \nPosition: Nebraska State Captain \n\nNote: You do not have to own/ride a motorcycle or be a veteran to join\, and membership is Free. The only requirement is RESPECT! To subscribe to receive mission notices\, log into the National Site and click on the Members tab at the top. Select the Subscribe to PGR Missions option.\n Print This Page
URL:https://www.patriotguard.org/mission/gerald-l-gary-henderson/
CATEGORIES:Honor Mission
END:VEVENT
END:VCALENDAR