BEGIN:VCALENDAR
VERSION:2.0
PRODID:-//Patriot Guard Riders - ECPv5.6.0//NONSGML v1.0//EN
CALSCALE:GREGORIAN
METHOD:PUBLISH
X-WR-CALNAME:Patriot Guard Riders
X-ORIGINAL-URL:https://www.patriotguard.org
X-WR-CALDESC:Events for Patriot Guard Riders
BEGIN:VTIMEZONE
TZID:America/New_York
BEGIN:DAYLIGHT
TZOFFSETFROM:-0500
TZOFFSETTO:-0400
TZNAME:EDT
DTSTART:20160313T070000
END:DAYLIGHT
BEGIN:STANDARD
TZOFFSETFROM:-0400
TZOFFSETTO:-0500
TZNAME:EST
DTSTART:20161106T060000
END:STANDARD
END:VTIMEZONE
BEGIN:VEVENT
DTSTART;TZID=America/New_York:20160601T090000
DTEND;TZID=America/New_York:20160601T110000
DTSTAMP:20210513T173932
CREATED:20160601T130000Z
LAST-MODIFIED:20191201T145522Z
UID:411675-1464771600-1464778800@www.patriotguard.org
SUMMARY:Gerald Johnson\, 86\, USAF Veteran / Potosi
DESCRIPTION:The Family of USAF Veteran PFC Gerald Johnson (86) has requested the Patriot Guard for the Final Mission of their Loved One.\n \n    Under the direction of:\n    Moore Funeral Home\n    105 Clark St.\n    Potosi\, Mo. 63664\n    \n    Wednesday\, June 1st\, 2016\n \n    Visitation: 09:30 AM (0930 hrs)\n \n    Service:   10:00 AM (1000 hrs)\n \n    Honor Escort to Jefferson Barracks National Cemetery for interment with Full Military Honors.\n \n    Ride Captain:\n    Dave “Rebel” Beck RC\n    Dbeck59110@aol.com\n \n    Support:\n    Stan Janis\n \n    Forecast : 75* W/ 80% chance of thunderstorms. Please Ride/Cage accordingly.
URL:https://www.patriotguard.org/mission/gerald-johnson-86-usaf-veteran-potosi/
CATEGORIES:Archive
END:VEVENT
END:VCALENDAR