BEGIN:VCALENDAR
VERSION:2.0
PRODID:-//Patriot Guard Riders - ECPv5.3.2.1//NONSGML v1.0//EN
CALSCALE:GREGORIAN
METHOD:PUBLISH
X-WR-CALNAME:Patriot Guard Riders
X-ORIGINAL-URL:https://www.patriotguard.org
X-WR-CALDESC:Events for Patriot Guard Riders
BEGIN:VTIMEZONE
TZID:America/New_York
BEGIN:DAYLIGHT
TZOFFSETFROM:-0500
TZOFFSETTO:-0400
TZNAME:EDT
DTSTART:20190310T070000
END:DAYLIGHT
BEGIN:STANDARD
TZOFFSETFROM:-0400
TZOFFSETTO:-0500
TZNAME:EST
DTSTART:20191103T060000
END:STANDARD
END:VTIMEZONE
BEGIN:VEVENT
DTSTART;VALUE=DATE:20190821
DTEND;VALUE=DATE:20190822
DTSTAMP:20210402T072354
CREATED:20190819T015821Z
LAST-MODIFIED:20190819T015821Z
UID:171162-1566345600-1566431999@www.patriotguard.org
SUMMARY:Gerald “Jerry” Serna
DESCRIPTION:Honor Mission\nGerald “Jerry” Serna\, Retired\nUSA\, ANG –\nAlbuquerque\, New Mexico – 08-21-19\n\n\n\nABOUT THE MISSION: \nThe Patriot Guard Riders of New Mexico have been invited to honor our fallen brother\, Gerald Serna. Jerry proudly served our country in the US Army and the Army National Guard and retired as 1st Sergeant after 20 years. Jerry worked in the Heating and Cooling business for 35 years then retired from that. He then went back to work in the field. Jerry was a generous man and was always available to help anyone at any time with anything.\n\n\nPRIMARY STAGING DETAILS: 08-21-19 \nStaging Time: 09:00 AM\n \nDaniels Funeral Home\n7601 Wyoming Blvd NE\nAlbuquerque\, New Mexico 87109\n\n\nRide Captain: \nDan Rambow\ndan48041@yahoo.com\n505-235-8589\n\nAsst: Billy “Bam Bam” Crain\, bdcrain50@gmail.com\, 505-263-8771\n\n\nSpecial Instructions: \nBriefing:09:45 am\nFlagline 10:00 -10:30\nKSU: 12:45 +/- for escort to: Santa Fe National Cemetery\, 501 N. Guadalupe St.\, Santa Fe\, NM.\nFlagline for 2:15 gravesite services.\n\n\nFlags & Water:\nFlags will be provided\nLarge Bike Flags will NOT be needed.\nWater WILL NOT be provided\, please bring your own.\n\n\n\nSubmitted By: Daniel Rambow \nPosition: New Mexico Ride Captain \n\nNote: You do not have to own/ride a motorcycle or be a veteran to join\, and membership is Free. The only requirement is RESPECT! To subscribe to receive mission notices\, log into the National Site and click on the Members tab at the top. Select the Subscribe to PGR Missions option.\n Print This Page
URL:https://www.patriotguard.org/mission/gerald-jerry-serna/
CATEGORIES:Honor Mission
END:VEVENT
END:VCALENDAR