BEGIN:VCALENDAR
VERSION:2.0
PRODID:-//Patriot Guard Riders - ECPv5.3.2.1//NONSGML v1.0//EN
CALSCALE:GREGORIAN
METHOD:PUBLISH
X-WR-CALNAME:Patriot Guard Riders
X-ORIGINAL-URL:https://www.patriotguard.org
X-WR-CALDESC:Events for Patriot Guard Riders
BEGIN:VTIMEZONE
TZID:America/New_York
BEGIN:DAYLIGHT
TZOFFSETFROM:-0500
TZOFFSETTO:-0400
TZNAME:EDT
DTSTART:20190310T070000
END:DAYLIGHT
BEGIN:STANDARD
TZOFFSETFROM:-0400
TZOFFSETTO:-0500
TZNAME:EST
DTSTART:20191103T060000
END:STANDARD
END:VTIMEZONE
BEGIN:VEVENT
DTSTART;VALUE=DATE:20190528
DTEND;VALUE=DATE:20190529
DTSTAMP:20210405T020824
CREATED:20190527T204936Z
LAST-MODIFIED:20190527T204936Z
UID:162386-1559001600-1559087999@www.patriotguard.org
SUMMARY:Gerald “Jerry” Gentry
DESCRIPTION:Honor Mission\nGerald “Jerry” Gentry\, Veteran\nUSMC\nLouisville \, Kentucky – 05-28-19\n\n\n \n\nABOUT THE MISSION: \nWe have been requested to stand a flag line in honor of Gerald “Jerry” Gentry\, who proudly served in the United States Marine Corp.\n\n\nPRIMARY STAGING DETAILS: 05-28-19 \nStaging Time: 10:30 am \nArch L. Heady at Resthaven Funeral Home\n4400 Bardstown Road\nLouisville \, Kentucky 40218\n\n\nRide Captain: \nDavid Ballard 502 249 0011\n\n\nSpecial Instructions: \nPlease come hydrated and dressed for the weather\n\n\nFlags & Water:\nFlags will be provided\nLarge Bike Flags will NOT be needed.\nWater WILL NOT be provided\, please bring your own.\n\n\n\n\n\nSubmitted By: Thomas Baker \nPosition: Kentucky Ride Captain \n\nNote: You do not have to own/ride a motorcycle or be a veteran to join\, and membership is Free. The only requirement is RESPECT! To subscribe to receive mission notices\, log into the National Site and click on the Members tab at the top. Select the Subscribe to PGR Missions option.\n Print This Page
URL:https://www.patriotguard.org/mission/gerald-jerry-gentry/
CATEGORIES:Honor Mission
END:VEVENT
END:VCALENDAR