BEGIN:VCALENDAR
VERSION:2.0
PRODID:-//Patriot Guard Riders - ECPv5.3.2.1//NONSGML v1.0//EN
CALSCALE:GREGORIAN
METHOD:PUBLISH
X-WR-CALNAME:Patriot Guard Riders
X-ORIGINAL-URL:https://www.patriotguard.org
X-WR-CALDESC:Events for Patriot Guard Riders
BEGIN:VTIMEZONE
TZID:America/New_York
BEGIN:DAYLIGHT
TZOFFSETFROM:-0500
TZOFFSETTO:-0400
TZNAME:EDT
DTSTART:20190310T070000
END:DAYLIGHT
BEGIN:STANDARD
TZOFFSETFROM:-0400
TZOFFSETTO:-0500
TZNAME:EST
DTSTART:20191103T060000
END:STANDARD
END:VTIMEZONE
BEGIN:VEVENT
DTSTART;VALUE=DATE:20190725
DTEND;VALUE=DATE:20190726
DTSTAMP:20210403T190959
CREATED:20190719T020006Z
LAST-MODIFIED:20190719T020006Z
UID:168236-1564012800-1564099199@www.patriotguard.org
SUMMARY:Gerald Glenn Howard
DESCRIPTION:Honor Mission\nGerald Glenn Howard\, Retired\nUSA –\nElizabethtown\, Kentucky – 07-25-19\n\n\n\nABOUT THE MISSION: \nKentucky has lost another brother and a true American hero. It is now our honor to stand for him at the Brown Funeral Home and escort to the Kentucky Veterans Cemetery Central (KVCC).\n\n\nPRIMARY STAGING DETAILS: 07-25-19 \nStaging Time: 09:30 AM\n \nBrown Funeral Home\n306 College Street\nElizabethtown\, Kentucky 42701\n\n\nRide Captain: \nDon Gilmore\ndgilmore@bbtel.com\n\n\nSpecial Instructions: \n09:30 Stage and Stake Flags.\nPlease stage at the main building to the right as you enter the Cemetery and move forward as requested by the Ride Captain. This will ensure we do not disturb any other services taking place.\n10:00 Visitation Begins\n11:45 Render Final Salute\n12:00 Service Begins\nEscort following Service to Kentucky Veterans Cemetery Central (KVCC)\, 2501 North Dixie Boulevard\, Radcliff\, KY 40160.\n12:30 PM Stage and Stake Flags\n1:00 PM Committal Service Begins.\nPlease arrive hydrated\, be prepared for the Hot and wet weather conditions.\n\n\nFlags & Water:\nFlags will be provided\nIf you have large bike flags\, please bring them.\nWater will be provided.\n\n\n\nSubmitted By: James Johnson \nPosition: Kentucky Ride Captain \n\nNote: You do not have to own/ride a motorcycle or be a veteran to join\, and membership is Free. The only requirement is RESPECT! To subscribe to receive mission notices\, log into the National Site and click on the Members tab at the top. Select the Subscribe to PGR Missions option.\n Print This Page
URL:https://www.patriotguard.org/mission/gerald-glenn-howard/
CATEGORIES:Honor Mission
END:VEVENT
END:VCALENDAR