BEGIN:VCALENDAR
VERSION:2.0
PRODID:-//Patriot Guard Riders - ECPv5.6.0//NONSGML v1.0//EN
CALSCALE:GREGORIAN
METHOD:PUBLISH
X-WR-CALNAME:Patriot Guard Riders
X-ORIGINAL-URL:https://www.patriotguard.org
X-WR-CALDESC:Events for Patriot Guard Riders
BEGIN:VTIMEZONE
TZID:America/New_York
BEGIN:DAYLIGHT
TZOFFSETFROM:-0500
TZOFFSETTO:-0400
TZNAME:EDT
DTSTART:20160313T070000
END:DAYLIGHT
BEGIN:STANDARD
TZOFFSETFROM:-0400
TZOFFSETTO:-0500
TZNAME:EST
DTSTART:20161106T060000
END:STANDARD
END:VTIMEZONE
BEGIN:VEVENT
DTSTART;TZID=America/New_York:20160613T090000
DTEND;TZID=America/New_York:20160613T110000
DTSTAMP:20210513T181820
CREATED:20160613T130000Z
LAST-MODIFIED:20191201T145213Z
UID:411390-1465808400-1465815600@www.patriotguard.org
SUMMARY:Gerald E. Tate
DESCRIPTION:The family of Navy veteran\, ATNAN (E-3)\, Gerald E. Tate has requested the Patriot Guard to honor his service at his funeral and interment on Monday\, June 13\, with a flag line for his funeral at 11:30 a.m. at Greenlawn Funeral Home\, 3540 East Seminole in Springfield\, MO. Followed by an escort to the Missouri Veterans Cemetery at 5201 S. Southwood\, Springfield\, for a 1 p.m. interment. \nATNAN Tate served from June 1960 until March 1964 as an aircraft technician in Attack Squadron Forty Four\, NAS\, Cecil Field\, FLorida\, and received a Good Conduct Award. \nStage:  10:30 a.m. Monday\, June 13\, at Greenlawn Funeral Home\, 3540 East Seminole\, Springfield\, MO. \nBriefing:  10:45 a.m. \nFlag line:  11:00 a.m. \nEscort:  following service to MVC for 1 p.m. committal service \nRCIC:  Phil Fels\n417-207-3325 \nFlag Support:  Bill Nelson\n417-849-9398
URL:https://www.patriotguard.org/mission/gerald-e-tate/
CATEGORIES:Archive
END:VEVENT
END:VCALENDAR