BEGIN:VCALENDAR
VERSION:2.0
PRODID:-//Patriot Guard Riders - ECPv5.3.2.1//NONSGML v1.0//EN
CALSCALE:GREGORIAN
METHOD:PUBLISH
X-WR-CALNAME:Patriot Guard Riders
X-ORIGINAL-URL:https://www.patriotguard.org
X-WR-CALDESC:Events for Patriot Guard Riders
BEGIN:VTIMEZONE
TZID:America/New_York
BEGIN:DAYLIGHT
TZOFFSETFROM:-0500
TZOFFSETTO:-0400
TZNAME:EDT
DTSTART:20190310T070000
END:DAYLIGHT
BEGIN:STANDARD
TZOFFSETFROM:-0400
TZOFFSETTO:-0500
TZNAME:EST
DTSTART:20191103T060000
END:STANDARD
END:VTIMEZONE
BEGIN:VEVENT
DTSTART;VALUE=DATE:20190531
DTEND;VALUE=DATE:20190601
DTSTAMP:20210405T062646
CREATED:20190524T023803Z
LAST-MODIFIED:20190524T023803Z
UID:162276-1559260800-1559347199@www.patriotguard.org
SUMMARY:Gerald Douglas Horner
DESCRIPTION:  \n\nHonor Mission\nGerald Douglas Horner\, Retired\nUSAF –  Vietnam\nCrescent City\, Florida 05-31-19\n\n\n \n\nABOUT THE MISSION: \nThe family and friends of U.S. Air Force TSgt Gerald D Horner (79) requests the Patriot Guard Riders presence to stand a flag line prior to his Celebration of Life service. TSgt Horner served his country honorably for 20 years and after military retirement he became a deputy with Frederick County Sheriffs Department\, Frederick\, MD where he stayed until his second retirement. His awards include: Air Force Longevity Service Award w/4 OLC; Air Force Good Conduct Medal w/4 OLC; National Defense Service Medal and Republic of Vietnam Service Medal\n\n\nPRIMARY STAGING DETAILS: 05-31-19 \nStaging Time: 10:00 am\n \nCrescent City Women’s Club\n604 Summit St (US-17)\nCrescent City\, Florida 32112\nhttps://goo.gl/maps/78So6yKmo9eQJzxdA\n\n\nRide Captain: \nTom Johnson\nthomas_johnson@bellsouth.net\n(904) 509-9493\n\n\nSpecial Instructions: \n10:15 am – Brief\nFlag Line set by RC\n\n\nFlags & Water:\nFlags will be provided\nLarge Bike Flags will NOT be needed.\nWater WILL NOT be provided\, please bring your own.\n  \n\n\n\nSubmitted By: Richard Vernon \nPosition: Florida Assistant State Captain \n\nNote: You do not have to own/ride a motorcycle or be a veteran to join\, and membership is Free. The only requirement is RESPECT! To subscribe to receive mission notices\, log into the National Site and click on the Members tab at the top. Select the Subscribe to PGR Missions option.\n Print This Page
URL:https://www.patriotguard.org/mission/gerald-douglas-horner/
CATEGORIES:Honor Mission
END:VEVENT
END:VCALENDAR