BEGIN:VCALENDAR
VERSION:2.0
PRODID:-//Patriot Guard Riders - ECPv5.3.2.1//NONSGML v1.0//EN
CALSCALE:GREGORIAN
METHOD:PUBLISH
X-WR-CALNAME:Patriot Guard Riders
X-ORIGINAL-URL:https://www.patriotguard.org
X-WR-CALDESC:Events for Patriot Guard Riders
BEGIN:VTIMEZONE
TZID:America/New_York
BEGIN:DAYLIGHT
TZOFFSETFROM:-0500
TZOFFSETTO:-0400
TZNAME:EDT
DTSTART:20190310T070000
END:DAYLIGHT
BEGIN:STANDARD
TZOFFSETFROM:-0400
TZOFFSETTO:-0500
TZNAME:EST
DTSTART:20191103T060000
END:STANDARD
END:VTIMEZONE
BEGIN:VEVENT
DTSTART;VALUE=DATE:20190927
DTEND;VALUE=DATE:20190928
DTSTAMP:20210401T105622
CREATED:20190926T001317Z
LAST-MODIFIED:20190926T001317Z
UID:176761-1569542400-1569628799@www.patriotguard.org
SUMMARY:Gerald Clinton Blocker
DESCRIPTION:Honor Mission\nGerald Clinton Blocker\, Retired\nUSN – Vietnam\nMiddleburg\, Florida – 09-27-19\n\n\nABOUT THE MISSION:\nThe family and friends of CDR Gerald Clinton Blocker (83) graciously requests the Patriot Guard Riders presence at Holly Hill Memorial Park to stand a flag line as the family shows their final respects to their Hero. CDR Blocker started his Naval career in 1957 at the age of 17 as an enlisted member\, advancing through the LDO program to attain the rank of CDR\, retiring in 1995. No other information is available at this time. Please join us in the flag line as we honor this 38 year veteran.\n\nPRIMARY STAGING DETAILS: 09-27-19 \nStaging Time: 10:15\n     Holly Hill Park\n3601 Old Jennings Road\nMiddleburg\, Florida 32068\nhttps://goo.gl/maps/PQu88rq3b6zC1ZLb8 \n\n\nRide Captain:\n     Thomas Johnson\nthomas_johnson@bellsouth.net\n(904) 509-9493 \n\n\nSpecial Instructions:\n          Brief: 10:30 AM\nFlag Line set by RC \nFlags & Water:\nFlags will be provided\n\nLarge Bike Flags will NOT be needed.\nWater WILL NOT be provided\, please bring your own.\n\n\nSubmitted By: Richard Vernon \nPosition: Florida Assistant State Captain \n\nNote: You do not have to own/ride a motorcycle or be a veteran to join\, and membership is Free. The only requirement is RESPECT! To subscribe to receive mission notices\, log into the National Site and click on the Members tab at the top. Select the Subscribe to PGR Missions option.\n Print This Page
URL:https://www.patriotguard.org/mission/gerald-clinton-blocker/
CATEGORIES:Honor Mission
END:VEVENT
END:VCALENDAR