BEGIN:VCALENDAR
VERSION:2.0
PRODID:-//Patriot Guard Riders - ECPv5.3.2.1//NONSGML v1.0//EN
CALSCALE:GREGORIAN
METHOD:PUBLISH
X-WR-CALNAME:Patriot Guard Riders
X-ORIGINAL-URL:https://www.patriotguard.org
X-WR-CALDESC:Events for Patriot Guard Riders
BEGIN:VTIMEZONE
TZID:America/New_York
BEGIN:DAYLIGHT
TZOFFSETFROM:-0500
TZOFFSETTO:-0400
TZNAME:EDT
DTSTART:20190310T070000
END:DAYLIGHT
BEGIN:STANDARD
TZOFFSETFROM:-0400
TZOFFSETTO:-0500
TZNAME:EST
DTSTART:20191103T060000
END:STANDARD
END:VTIMEZONE
BEGIN:VEVENT
DTSTART;VALUE=DATE:20190829
DTEND;VALUE=DATE:20190830
DTSTAMP:20210401T145918
CREATED:20190821T002439Z
LAST-MODIFIED:20190821T002439Z
UID:171464-1567036800-1567123199@www.patriotguard.org
SUMMARY:Gerald Clayton Wingate
DESCRIPTION:Honor Mission\nGerald Clayton Wingate\, Retired\nUSAF\nPensacola\, Florida  08-29-19\n\n\n \n\nABOUT THE MISSION: \nThe Patriot Guard has been invited by the family of Major Gerald C. Wingate\, United States Air Force\, to stand in his honor and escort him to Holy Cross Cemetery\, 1300 E. Haynes St. Pensacola\, FL. Services will be at St John Divine Missionary Baptist Church\, 620 E. Jordan St.\, Pensacola\, FL. Military Honors will follow at Holy Cross Cemetery\, 1300 E. Haynes St. Pensacola\, FL.\n\n\nPRIMARY STAGING DETAILS: 08-29-19 \nStaging Time: 11:15 AM  \nMcDonald’s\n815 E. Cervantes St\nPensacola\, Florida\n\n\nRide Captain: \nBilly Early\n(850) 485- 9600\n\n\nSpecial Instructions: \nIt is recommended\, while riding with the PGR that you wear long sleeve shirts\, long trousers long fingered gloves\, DOT approved helmets\, leather footwear covering the ankles and appropriate eye protection.\n\n12:00 PM – Safety briefing for all riders\n12:15 PM – KSU for St John Divine Missionary Baptist Church\, 620 E. Jordan St.\, Pensacola\, FL.\n12:30 PM – Arrive at Church\n1:00 PM – KSU to Holy Cross Cemetery\, 1300 E. Haynes St. Pensacola\, FL.\n1:30 PM – Honors\n\n\nFlags & Water:\nFlags will be provided\nIf you have large bike flags\, please bring them.\nWater will be provided.\n  \n\n\n\nSubmitted By: Ray Doyle \nPosition: Florida Assistant State Captain \n\nNote: You do not have to own/ride a motorcycle or be a veteran to join\, and membership is Free. The only requirement is RESPECT! To subscribe to receive mission notices\, log into the National Site and click on the Members tab at the top. Select the Subscribe to PGR Missions option.\n Print This Page
URL:https://www.patriotguard.org/mission/gerald-clayton-wingate/
CATEGORIES:Honor Mission
END:VEVENT
END:VCALENDAR