BEGIN:VCALENDAR
VERSION:2.0
PRODID:-//Patriot Guard Riders - ECPv5.3.2.1//NONSGML v1.0//EN
CALSCALE:GREGORIAN
METHOD:PUBLISH
X-WR-CALNAME:Patriot Guard Riders
X-ORIGINAL-URL:https://www.patriotguard.org
X-WR-CALDESC:Events for Patriot Guard Riders
BEGIN:VTIMEZONE
TZID:America/New_York
BEGIN:DAYLIGHT
TZOFFSETFROM:-0500
TZOFFSETTO:-0400
TZNAME:EDT
DTSTART:20190310T070000
END:DAYLIGHT
BEGIN:STANDARD
TZOFFSETFROM:-0400
TZOFFSETTO:-0500
TZNAME:EST
DTSTART:20191103T060000
END:STANDARD
END:VTIMEZONE
BEGIN:VEVENT
DTSTART;VALUE=DATE:20190722
DTEND;VALUE=DATE:20190723
DTSTAMP:20210404T041914
CREATED:20190720T230730Z
LAST-MODIFIED:20190720T230730Z
UID:168389-1563753600-1563839999@www.patriotguard.org
SUMMARY:George William Durham
DESCRIPTION:Honor Mission\nGeorge William Durham\, Veteran\nUSA – Vietnam\nOre City\, Texas – 07-22-19\n\n\n\nABOUT THE MISSION: \nIn 1955\, George joined the United States Army and served 20 years. He retired as a SFC in April 1976 after serving in Korea\, Japan and Vietnam.\n\n\nPRIMARY STAGING DETAILS: 07-22-19 \nStaging Time: 08:15 AM\n \nReeder Davis Funeral Home\n109 US 259\nOre City\, Texas 75683\nMap\n\n\nRide Captain: \nMike Holt\nPhone: 903 790 1141\nEmail Address: mikewholt@yahoo.com\n\n\nSpecial Instructions: \n\n\nFlags & Water:\nFlags will be provided\nIf you have large bike flags\, please bring them.\nWater will be provided.\n\n\n\nSubmitted By: Ed Wilkinson \nPosition: Texas Ride Captain \n\nNote: You do not have to own/ride a motorcycle or be a veteran to join\, and membership is Free. The only requirement is RESPECT! To subscribe to receive mission notices\, log into the National Site and click on the Members tab at the top. Select the Subscribe to PGR Missions option.\n Print This Page
URL:https://www.patriotguard.org/mission/george-william-durham/
CATEGORIES:Honor Mission
END:VEVENT
END:VCALENDAR