BEGIN:VCALENDAR
VERSION:2.0
PRODID:-//Patriot Guard Riders - ECPv5.3.2.1//NONSGML v1.0//EN
CALSCALE:GREGORIAN
METHOD:PUBLISH
X-WR-CALNAME:Patriot Guard Riders
X-ORIGINAL-URL:https://www.patriotguard.org
X-WR-CALDESC:Events for Patriot Guard Riders
BEGIN:VTIMEZONE
TZID:America/New_York
BEGIN:DAYLIGHT
TZOFFSETFROM:-0500
TZOFFSETTO:-0400
TZNAME:EDT
DTSTART:20190310T070000
END:DAYLIGHT
BEGIN:STANDARD
TZOFFSETFROM:-0400
TZOFFSETTO:-0500
TZNAME:EST
DTSTART:20191103T060000
END:STANDARD
END:VTIMEZONE
BEGIN:VEVENT
DTSTART;VALUE=DATE:20190827
DTEND;VALUE=DATE:20190828
DTSTAMP:20210401T005047
CREATED:20190823T143246Z
LAST-MODIFIED:20190823T143246Z
UID:171692-1566864000-1566950399@www.patriotguard.org
SUMMARY:George Wesley Shultz
DESCRIPTION:Honor Mission\nGeorge Wesley Shultz\, Veteran\nUSMC\, USMCR\nRaytown\, Missouri – 08-27-19\n\n\n\n\nABOUT THE MISSION: \nThe family of Marine Cpl. George Wesley Shultz has requested the Patriot Guard Riders to stand a flag line of honor and respect\, and escort him to his final resting place.\n\n\nPRIMARY STAGING DETAILS: 08-27-19 \nStaging Time: 10:00 am \nConnection Point Church\n10500 E. State Rte. 350 Hwy\nRaytown\, Missouri 64138\n\n\nRide Captain: \nBob “Flag Guy” Edwards\nbobsunshine@comcast.net\n816-260-6789\n\n\nSpecial Instructions: \nR.C. is requesting help setting flags at Floral Hills Cemetery\, 7000 Blue Ridge Blvd.\, KC MO at approx. 9 a.m. and at church at 10 a.m. We will stand a flag line for visitation from  11:00 a.m. to 1:oo p.m and then escort to the cemetery after service. Weather to be mid 80’s prepare accordingly. Cages always welcome.  Make sure large flags are secure.  Note: Mr. Shultz is the brother-in-law of R.C. Bob Edwards.\n\nFlags & Water:\nFlags will be provided\nIf you have large bike flags\, please bring them.\nWater WILL NOT be provided\, please bring your own.\n\n\n\n\nSubmitted By: Bob Edwards \nPosition:  Ride Captain\n\nNote: You do not have to own/ride a motorcycle or be a veteran to join\, and membership is Free. The only requirement is RESPECT! To subscribe to receive mission notices\, log into the National Site and click on the Members tab at the top. Select the Subscribe to PGR Missions option.\n Print This Page
URL:https://www.patriotguard.org/mission/george-wesley-shultz/
CATEGORIES:Honor Mission
END:VEVENT
END:VCALENDAR