BEGIN:VCALENDAR
VERSION:2.0
PRODID:-//Patriot Guard Riders - ECPv5.3.2.1//NONSGML v1.0//EN
CALSCALE:GREGORIAN
METHOD:PUBLISH
X-WR-CALNAME:Patriot Guard Riders
X-ORIGINAL-URL:https://www.patriotguard.org
X-WR-CALDESC:Events for Patriot Guard Riders
BEGIN:VTIMEZONE
TZID:America/New_York
BEGIN:DAYLIGHT
TZOFFSETFROM:-0500
TZOFFSETTO:-0400
TZNAME:EDT
DTSTART:20190310T070000
END:DAYLIGHT
BEGIN:STANDARD
TZOFFSETFROM:-0400
TZOFFSETTO:-0500
TZNAME:EST
DTSTART:20191103T060000
END:STANDARD
END:VTIMEZONE
BEGIN:VEVENT
DTSTART;VALUE=DATE:20190710
DTEND;VALUE=DATE:20190711
DTSTAMP:20210404T025139
CREATED:20190709T150928Z
LAST-MODIFIED:20190709T150928Z
UID:167042-1562716800-1562803199@www.patriotguard.org
SUMMARY:George W. Houston
DESCRIPTION:Honor Mission\nGeorge W. Houston\, Veteran\nUSMC – Korea\nBellefontaine Neighbors \, Missouri – 07-10-19\n\n\n\nABOUT THE MISSION: \nThe family of George W. Houston has invited the Patriot Guard Riders to be with them as we honor him for his service to our country. Hero Houston proudly served his country in the United States Marine Corps during the Korean War. Hero Houston was a pillar of society; he was a forever Boy Scout of Troop 229 and helped many boys achieve the highest rank of Eagle in the Boy Scouts of America. He served in the American Legion Post 444 and was the Commander of the VFW Post 1840. It will be our privilege to stand a flag line of honor and respect for this true patriot.\n\n\nPRIMARY STAGING DETAILS: 07-10-19 \nStaging Time: 09:00 AM\n \nHoly Name of Jesus Catholic Church\n10235 Ashbrook Dr\nBellefontaine Neighbors\, Missouri 633137\n\n\nRide Captain: \nJohn Faul\n256-603-1714\njmfaul@hotmail.com\n\n\nSpecial Instructions: \nStaging: 9:00 am\nBriefing to follow.\nFlag line until the Funeral Mass begins at 10:00 AM. It is expected that there will be several long eulogies for Hero Houston and they are expecting a large procession going to Jefferson Barracks National Cemetery for Military Honor.\nFlag line during Military Honor at 1:00 PM.\nWeather Forecast: Mostly Cloudy Hi 91* – Low 74*.\nDon’t forget to stay hydrated and drink plenty of water during these warm days of summer.\nBe safe coming to the mission and cages are always welcome.\n\nFlag Support: Mike “Jenky” Jenkins\n\n\nFlags & Water:\nFlags will be provided\nIf you have large bike flags\, please bring them.\nWater will be provided.\n\n\n\nSubmitted By: John Faul \nPosition: Missouri Ride Captain \n\nNote: You do not have to own/ride a motorcycle or be a veteran to join\, and membership is Free. The only requirement is RESPECT! To subscribe to receive mission notices\, log into the National Site and click on the Members tab at the top. Select the Subscribe to PGR Missions option.\n Print This Page
URL:https://www.patriotguard.org/mission/george-w-houston-2/
CATEGORIES:Honor Mission
END:VEVENT
END:VCALENDAR