BEGIN:VCALENDAR
VERSION:2.0
PRODID:-//Patriot Guard Riders - ECPv5.6.0//NONSGML v1.0//EN
CALSCALE:GREGORIAN
METHOD:PUBLISH
X-WR-CALNAME:Patriot Guard Riders
X-ORIGINAL-URL:https://www.patriotguard.org
X-WR-CALDESC:Events for Patriot Guard Riders
BEGIN:VTIMEZONE
TZID:America/New_York
BEGIN:DAYLIGHT
TZOFFSETFROM:-0500
TZOFFSETTO:-0400
TZNAME:EDT
DTSTART:20160313T070000
END:DAYLIGHT
BEGIN:STANDARD
TZOFFSETFROM:-0400
TZOFFSETTO:-0500
TZNAME:EST
DTSTART:20161106T060000
END:STANDARD
END:VTIMEZONE
BEGIN:VEVENT
DTSTART;TZID=America/New_York:20160801T090000
DTEND;TZID=America/New_York:20160801T110000
DTSTAMP:20210512T021331
CREATED:20160801T130000Z
LAST-MODIFIED:20191201T144014Z
UID:410294-1470042000-1470049200@www.patriotguard.org
SUMMARY:George Thomas Freeman\, Jr.\, USA\, Korea / Colonie
DESCRIPTION:Members: \nThe family of George Thomas Freeman\, Jr.\, has requested the participation of the Patriot Guard Riders in his military honors funeral. \nWHEN / WHERE:\nMonday\, Aug. 1st\nColonie\, NY 12205 \nLRC – Bill Schaaf \nABOUT THE MISSION:\n\nGeorge T. Freeman\, Jr. answered his country’s call to service in 1952.  As an Infantryman he rose to the rank of Sergeant while serving in Korea.  He was the recipient of the Korean Service Medal with Bronze Star and a Presidential Unit Citation. \nHe returned home from honorable military service to marry and raise a family. He was a tool and dye maker at Behr Manning/Norton Company and retired from there after 37 years. \nThe Patriot Guard Riders will be privileged to be there to render Honor\, Dignity and Respect for the life and service of George T. Freeman. \nBill Schaaf\nbillschaaf@aol.com\n[URL=”tel:518-542-0608″]518-542-0608[/URL]
URL:https://www.patriotguard.org/mission/george-thomas-freeman-jr-usa-korea-colonie/
CATEGORIES:Archive
END:VEVENT
END:VCALENDAR