BEGIN:VCALENDAR
VERSION:2.0
PRODID:-//Patriot Guard Riders - ECPv5.3.2.1//NONSGML v1.0//EN
CALSCALE:GREGORIAN
METHOD:PUBLISH
X-WR-CALNAME:Patriot Guard Riders
X-ORIGINAL-URL:https://www.patriotguard.org
X-WR-CALDESC:Events for Patriot Guard Riders
BEGIN:VTIMEZONE
TZID:America/New_York
BEGIN:DAYLIGHT
TZOFFSETFROM:-0500
TZOFFSETTO:-0400
TZNAME:EDT
DTSTART:20190310T070000
END:DAYLIGHT
BEGIN:STANDARD
TZOFFSETFROM:-0400
TZOFFSETTO:-0500
TZNAME:EST
DTSTART:20191103T060000
END:STANDARD
END:VTIMEZONE
BEGIN:VEVENT
DTSTART;VALUE=DATE:20190705
DTEND;VALUE=DATE:20190706
DTSTAMP:20210403T202409
CREATED:20190629T021112Z
LAST-MODIFIED:20190629T022552Z
UID:165497-1562284800-1562371199@www.patriotguard.org
SUMMARY:George Tadd Reynolds
DESCRIPTION:Honor Mission\nGeorge Tadd Reynolds\, Veteran\nUSN – Vietnam\nDeming\, New Mexico – 07-05-19\n\n\n\nABOUT THE MISSION: \nGeorge Reynolds Sr. was born in Ashland\, Ohio in 1940 and entered the US Navy in Mansfield Ohio in 1960. George served from 1960 to 1964 at the beginning of the Vietnam conflict. George served on the USS Valley Forge\, out of Norfolk\, Va. as an Aircraft Structural Mechanic. George was awarded the Armed Force Expeditionary Medal\, Meritorious Unit Citation\, and the Navy Unit Citation during his service.\n\n\nPRIMARY STAGING DETAILS: 07-05-19 \nStaging Time: 2:00 PM\n \nRedeemer Lutheran Church\n600 W. Florida St.\nDeming\, New Mexico 88030\n\n\nRide Captain: \nBobby Jakcsy\, Mr. Wonderful\n(575) 496-1809\nbobby.jakcsy@gmail.com\n\n\nSpecial Instructions: \nStage at 12:00\nBriefing at 12:45\nFlagline established at 12:30 for a 1:00 service.\nAfter the service starts we will break down the Flagline and prepare for the escort to Mountain View Cemetery\, 3410 E. Pine St.\, where we will reestablish the Flagline.\nThe Military honors will be performed USN\, assisted by the Deming area Marine Corps League.\n\n\nFlags & Water:\nFlags will be provided\nIf you have large bike flags\, please bring them.\nWater will be provided.\n\n\n\nSubmitted By: Bobby Jakcsy \nPosition: New Mexico Ride Captain \n\nNote: You do not have to own/ride a motorcycle or be a veteran to join\, and membership is Free. The only requirement is RESPECT! To subscribe to receive mission notices\, log into the National Site and click on the Members tab at the top. Select the Subscribe to PGR Missions option.\n Print This Page
URL:https://www.patriotguard.org/mission/george-tadd-reynolds/
CATEGORIES:Honor Mission
END:VEVENT
END:VCALENDAR