BEGIN:VCALENDAR
VERSION:2.0
PRODID:-//Patriot Guard Riders - ECPv5.6.0//NONSGML v1.0//EN
CALSCALE:GREGORIAN
METHOD:PUBLISH
X-WR-CALNAME:Patriot Guard Riders
X-ORIGINAL-URL:https://www.patriotguard.org
X-WR-CALDESC:Events for Patriot Guard Riders
BEGIN:VTIMEZONE
TZID:America/New_York
BEGIN:DAYLIGHT
TZOFFSETFROM:-0500
TZOFFSETTO:-0400
TZNAME:EDT
DTSTART:20160313T070000
END:DAYLIGHT
BEGIN:STANDARD
TZOFFSETFROM:-0400
TZOFFSETTO:-0500
TZNAME:EST
DTSTART:20161106T060000
END:STANDARD
END:VTIMEZONE
BEGIN:VEVENT
DTSTART;TZID=America/New_York:20160624T090000
DTEND;TZID=America/New_York:20160624T110000
DTSTAMP:20210513T130353
CREATED:20160624T130000Z
LAST-MODIFIED:20191201T144846Z
UID:411075-1466758800-1466766000@www.patriotguard.org
SUMMARY:George Schenck\, USN
DESCRIPTION:24 June 2016\nPO3 George Schenck\nUS Navy\, Vietnam\nMontevallo\, AL\n\n\nThe Patriot Guard Riders has been requested to stand in as the family for PO3 George Schenck. The Patriot Guard Riders were requested to escort and stand a flag line for this Hero. PO3 Schenck served in the US Navy. He answered the call of duty\, so the Patriot Guard Riders will be honored to stand in as his family\, escort him to The Alabama National Cemetery and stand a flag line at this time. \nStaging 1: 10:15 AM\, 24 June 2016 (KSU at 10:30 to ALNC)\n    Good Shepherd Funeral Home\n    150 White St\n    Montevallo\, AL 35115 \nStaging 2: Alabama National Cemetery (Appointment Time 11:00)\n    3133 Hwy 119\n    Montevallo\, AL 35115 \nWeather: High of 96 \nRCIC: Harvey Nabors\n    hnabors@att.net\n    (205) 915-5128
URL:https://www.patriotguard.org/mission/george-schenck-usn/
CATEGORIES:Archive
END:VEVENT
END:VCALENDAR