BEGIN:VCALENDAR
VERSION:2.0
PRODID:-//Patriot Guard Riders - ECPv5.3.2.1//NONSGML v1.0//EN
CALSCALE:GREGORIAN
METHOD:PUBLISH
X-WR-CALNAME:Patriot Guard Riders
X-ORIGINAL-URL:https://www.patriotguard.org
X-WR-CALDESC:Events for Patriot Guard Riders
BEGIN:VTIMEZONE
TZID:America/New_York
BEGIN:DAYLIGHT
TZOFFSETFROM:-0500
TZOFFSETTO:-0400
TZNAME:EDT
DTSTART:20180311T070000
END:DAYLIGHT
BEGIN:STANDARD
TZOFFSETFROM:-0400
TZOFFSETTO:-0500
TZNAME:EST
DTSTART:20181104T060000
END:STANDARD
END:VTIMEZONE
BEGIN:VEVENT
DTSTART;VALUE=DATE:20180905
DTEND;VALUE=DATE:20180906
DTSTAMP:20210404T110121
CREATED:20180904T115113Z
LAST-MODIFIED:20180904T115113Z
UID:133153-1536105600-1536191999@www.patriotguard.org
SUMMARY:George Osmond
DESCRIPTION:Honor Mission\nGeorge Osmond \, Veteran\nUSN – \, WWII\, Korea\, Vietnam\nGrand Island\, Nebraska – 09-05-18\n\n\n\n\nABOUT THE MISSION: \nThe family of  George Osmond\, 89\, have requested the Patriot Guard Riders participate in his funeral service . The Patriot Guard Riders will stand a flag line prior to the funeral service at the funeral home.   Our Hero\,  George Osmond\, enlisted in the Navy at the end of WWII\, completed a tour in Korea\, and served in Vietnam. George spent over 20 years in the Navy as a marine diesel mechanic\, a profession he pursued after his honorable discharge. George’s time in the Navy taught him the value of structure and hard work\, traits that he passed on to his children and grandchildren. As a dad\, George could be “military strict” but loving and nurturing\, leading his children to learn respect and the importance of education.\nAll or part of the above text camr from the obituary which can be viewed here.\n\n\nPRIMARY STAGING DETAILS: 09-05-18 \nStaging Time: 13:30  \nAll Faiths Funeral Home\,\n2929 South Locust St\,\nGrand Island\, Nebraska 68801\n\n\nRide Captain: \nSherilyn Allen\nsherilynallen24@gmail\n308-737-0417\nFlags :Cody Eastman\nsmokeeater88@gmail.com\n308-379-0864\n\n\nSpecial Instructions: \nRIDERS MEETING: 1:45 PM\nFLAG LINE: 2:00PM\nFUNERAL: 2:30PM.\nSafety being paramount – ride only if conditions permit.\n\nFlags & Water:\nFlags will be provided\nLarge Bike Flags will NOT be needed.\nWater WILL NOT be provided\, please bring your own.\n\n\n\nSubmitted By: Scott Knudsen \nPosition: Nebraska State Captain \n\nNote: You do not have to own/ride a motorcycle or be a veteran to join\, and membership is Free. The only requirement is RESPECT! To subscribe to receive mission notices\, log into the National Site and click on the Members tab at the top. Select the Subscribe to PGR Missions option.\n Print This Page
URL:https://www.patriotguard.org/mission/george-osmond/
CATEGORIES:Honor Mission
END:VEVENT
END:VCALENDAR