BEGIN:VCALENDAR
VERSION:2.0
PRODID:-//Patriot Guard Riders - ECPv5.3.2.1//NONSGML v1.0//EN
CALSCALE:GREGORIAN
METHOD:PUBLISH
X-WR-CALNAME:Patriot Guard Riders
X-ORIGINAL-URL:https://www.patriotguard.org
X-WR-CALDESC:Events for Patriot Guard Riders
BEGIN:VTIMEZONE
TZID:America/New_York
BEGIN:DAYLIGHT
TZOFFSETFROM:-0500
TZOFFSETTO:-0400
TZNAME:EDT
DTSTART:20190310T070000
END:DAYLIGHT
BEGIN:STANDARD
TZOFFSETFROM:-0400
TZOFFSETTO:-0500
TZNAME:EST
DTSTART:20191103T060000
END:STANDARD
END:VTIMEZONE
BEGIN:VEVENT
DTSTART;VALUE=DATE:20190823
DTEND;VALUE=DATE:20190824
DTSTAMP:20210402T111128
CREATED:20190820T235121Z
LAST-MODIFIED:20190821T123741Z
UID:171457-1566518400-1566604799@www.patriotguard.org
SUMMARY:George M Sisley
DESCRIPTION:Honor Mission\nGeorge M Sisley\, Veteran\nUSA\, Vietnam\nWinlock\, Washington – 08-23-19\n\n\n\nABOUT THE MISSION: \nLadies and Gentlemen of the Patriot Guard Riders. The family of George M Sisley has requested the Patriot Guard Riders stand for George at his Memorial service. George served in the US Army from May 1968 to May 1974. SP4 George Sisley saw action in Vietnam and was awarded two Purple Hearts\, the Distinguished Service Medal\, the Vietnam Service Medal\, the Vietnam Campaign Medal\, and the National Defense Service Medal. Please join with us as we stand a Flag Line at his memorial service.\n\n\nPRIMARY STAGING DETAILS: 08-23-19 \nStaging Time: 1:00 pm\n \nShell Gas\n1178 Mt St Helens Way\nCastle Rock\, Washington 98611\n\n\nRide Captain: \nChuck Lashley\n 360-747-1958\nchuck@lastruckrepair.com\n\n\nSpecial Instructions: \nSV: TBD\n\n1:15 PM – Briefing\n1:30 PM – KSU to Mission location\n2:15 PM – Flag Line in Place\n3:00 PM – Ceremony begins\, quietly fade away.\n\n\nFlags & Water:\n\nFlags will be provided\nIf you have large bike flags\, please bring them.\nWater WILL NOT be provided\, please bring your own.\n\n\nSubmitted By: Chuck Lashley \nPosition: SW Washington District Captain \n\nNote: You do not have to own/ride a motorcycle or be a veteran to join\, and membership is Free. The only requirement is RESPECT! To subscribe to receive mission notices\, log into the National Site and click on the Members tab at the top. Select the Subscribe to PGR Missions option.\n Print This Page
URL:https://www.patriotguard.org/mission/george-m-sisley/
CATEGORIES:Honor Mission
END:VEVENT
END:VCALENDAR