BEGIN:VCALENDAR
VERSION:2.0
PRODID:-//Patriot Guard Riders - ECPv5.3.2.1//NONSGML v1.0//EN
CALSCALE:GREGORIAN
METHOD:PUBLISH
X-WR-CALNAME:Patriot Guard Riders
X-ORIGINAL-URL:https://www.patriotguard.org
X-WR-CALDESC:Events for Patriot Guard Riders
BEGIN:VTIMEZONE
TZID:America/New_York
BEGIN:DAYLIGHT
TZOFFSETFROM:-0500
TZOFFSETTO:-0400
TZNAME:EDT
DTSTART:20190310T070000
END:DAYLIGHT
BEGIN:STANDARD
TZOFFSETFROM:-0400
TZOFFSETTO:-0500
TZNAME:EST
DTSTART:20191103T060000
END:STANDARD
END:VTIMEZONE
BEGIN:VEVENT
DTSTART;VALUE=DATE:20190710
DTEND;VALUE=DATE:20190711
DTSTAMP:20210404T044335
CREATED:20190707T005518Z
LAST-MODIFIED:20190707T005712Z
UID:166827-1562716800-1562803199@www.patriotguard.org
SUMMARY:George M. Makowiec
DESCRIPTION:Arlington National Cemetery\nGeorge M. Makowiec\, Retired\nUSA\nArlington\, Virginia – 07-10-19\n\n\n\nABOUT THE MISSION: \nSFC George M. Makowiec\, 68\, US Army Retired\, from Gloucester\, VA\, died 19 April 2019 at his home.  Born in Swidnica\, Poland to refugee parents who fled the Ukraine after WWII\, the family moved to America and made their home in Ohio.  George joined the US Army and served for twenty years.  He spoke Russian fluently and because of that he served in Intelligence.  A true Cold War Warrior\, he took his family on assignment to Alaska to monitor Russian activity.  Even after retirement\, he continued to work with intelligence gathering agencies to make our Nation safe.  He is survived by his wife Oksana\, and a large and loving family.  SFC George M. Makowiec\, is to be interred on the hallowed grounds of Arlington National Cemetery on 10 July 2019 at approximately 11:00 AM from the Administration Building.  PGR has been invited to attend the services by his family\, and we will be there to stand tall\, silent and proud in honor of this US Army Soldier\, his family\, friends and comrades at arms.\n\n\nPRIMARY STAGING DETAILS: 07-10-19 \nStage: 9:00 AM  \nIWO Jima War Memorial\nArlington Ridge Park\nArlington\, Virginia 22211\n\n\nRide Captain: \nMike Buck\n240-812-2872\nFordgpw43@yahoo.com\n\n\nSpecial Instructions: \nStage: 9:00 AM\nBrief: 9:30 AM\nKSU: 9:45 AM\, Escort hearse to ANC and final resting place.\nHonors: 11:00 AM\, Graveside ANC (time approx.)\nConcealed/carry permits are NOT recognized on military installations and federal reservations.  Therefore do not bring weapons or hazardous materials to this mission.\n\n\nFlags & Water:\nFlags will not be provided\nLarge Bike Flags will NOT be needed.\nWater WILL NOT be provided\, please bring your own.\n\nSubmitted By: Bruce Gentile \nPosition: Maryland State Captain \n\nNote: You do not have to own/ride a motorcycle or be a veteran to join\, and membership is Free. The only requirement is RESPECT! To subscribe to receive mission notices\, log into the National Site and click on the Members tab at the top. Select the Subscribe to PGR Missions option.\n Print This Page
URL:https://www.patriotguard.org/mission/george-m-makowiec/
CATEGORIES:Arlington National Cemetery
END:VEVENT
END:VCALENDAR