BEGIN:VCALENDAR
VERSION:2.0
PRODID:-//Patriot Guard Riders - ECPv5.3.2.1//NONSGML v1.0//EN
CALSCALE:GREGORIAN
METHOD:PUBLISH
X-WR-CALNAME:Patriot Guard Riders
X-ORIGINAL-URL:https://www.patriotguard.org
X-WR-CALDESC:Events for Patriot Guard Riders
BEGIN:VTIMEZONE
TZID:America/New_York
BEGIN:DAYLIGHT
TZOFFSETFROM:-0500
TZOFFSETTO:-0400
TZNAME:EDT
DTSTART:20190310T070000
END:DAYLIGHT
BEGIN:STANDARD
TZOFFSETFROM:-0400
TZOFFSETTO:-0500
TZNAME:EST
DTSTART:20191103T060000
END:STANDARD
END:VTIMEZONE
BEGIN:VEVENT
DTSTART;VALUE=DATE:20190921
DTEND;VALUE=DATE:20190922
DTSTAMP:20210401T022850
CREATED:20190919T041031Z
LAST-MODIFIED:20191127T164212Z
UID:175314-1569024000-1569110399@www.patriotguard.org
SUMMARY:George Lewis Brandon
DESCRIPTION:Honor Mission\nSSG George Lewis Brandon\, Retired\nUSA – Vietnam\nFordyce\, Arkansas – 09-21-19\n\n\n\nABOUT THE MISSION: \nThe State of Arkansas and our country has lost a true American Patriot. We have been asked to stand in honor of George Lewis Brandon\, 78\, born July 16\, 1941 in Kingsland\, AR. He was a 1959 graduate of Kingsland High School. He was a member of New Edinburg First Baptist Church and a Master Mason in Lodge #430 of Kingsland\, a Past Master\, and belonged to Huey Lodge #78 New Edinburg. He was in the US Army for 22 1/2 years\, achieving the rank of Staff Sergeant. He served in Germany\, Korea\, Vietnam and Stateside. Medals awarded were; Army Service Ribbon\, Good Conduct Medal\, (w/silver 1 loop) National Defense Service Medal\, Overseas Service Ribbon (numeral 1) Republic of Vietnam Campaign Medal (w/60 Device)\, Vietnam Service Medal (w/1 Silver Service Star & 1 Bronze Service Star)\, Vietnamese Cross of Gallantry (w/ Palm). He has been a minister since February of 1991. He loved fishing\, hunting\, and almost all sports\, westerns\, gardening\, and most of all God and his family. He was a Goldstar Father. George was preceded in death by his parents and two sons. It will be an honor to stand for this Hero. Well done Patriot!\nObituary\n\n\nPRIMARY STAGING DETAILS: 09-21-19 \nStaging Time: 09:00 AM\n \nBenton Funeral Home\n501 W 4th Street\nFordyce\, Arkansas 71742\nMap\n\n\nRide Captain: \nRick Schrunk\n501-529-3167\nRschrunk11@gmail.com\n\n\nSpecial Instructions: \nBriefing: 915 am. Must attend Briefing to ride in Escort for safety.\nFlagline: 930 am\nRespect line following service.\nEscort to Kingsland Cemetery\, 8.5miles.\nGraveside service with Full Military Honors and Patriot Guard presentation.\nWeather forecast partly cloudy and low 80s.\nCages welcome.\n\n\nFlags & Water:\nFlags will be provided\nIf you have large bike flags\, please bring them.\nWater will be provided.\n\n\n\nSubmitted By: Rick Schrunk \nPosition: Arkansas Ride/Hoth Captain \n\nNote: You do not have to own/ride a motorcycle or be a veteran to join\, and membership is Free. The only requirement is RESPECT! To subscribe to receive mission notices\, log into the National Site and click on the Members tab at the top. Select the Subscribe to PGR Missions option.\n Print This Page
URL:https://www.patriotguard.org/mission/george-lewis-brandon/
CATEGORIES:Honor Mission
END:VEVENT
END:VCALENDAR