BEGIN:VCALENDAR
VERSION:2.0
PRODID:-//Patriot Guard Riders - ECPv5.6.0//NONSGML v1.0//EN
CALSCALE:GREGORIAN
METHOD:PUBLISH
X-WR-CALNAME:Patriot Guard Riders
X-ORIGINAL-URL:https://www.patriotguard.org
X-WR-CALDESC:Events for Patriot Guard Riders
BEGIN:VTIMEZONE
TZID:America/New_York
BEGIN:DAYLIGHT
TZOFFSETFROM:-0500
TZOFFSETTO:-0400
TZNAME:EDT
DTSTART:20160313T070000
END:DAYLIGHT
BEGIN:STANDARD
TZOFFSETFROM:-0400
TZOFFSETTO:-0500
TZNAME:EST
DTSTART:20161106T060000
END:STANDARD
END:VTIMEZONE
BEGIN:VEVENT
DTSTART;TZID=America/New_York:20160615T090000
DTEND;TZID=America/New_York:20160615T110000
DTSTAMP:20210513T135531
CREATED:20160615T130000Z
LAST-MODIFIED:20191201T145055Z
UID:411272-1465981200-1465988400@www.patriotguard.org
SUMMARY:George Jones\, 37
DESCRIPTION:Our great State of Tennessee and the City of Obion have lost another Veteran Hero.  George Jones\, 37\, passed away on Sunday\, June 12\, 2016. He served his country in the Army National Guard.  SFC Morris with TNARNG\, on behalf of the family\, has invited the Patriot Guard Riders to Honor Mr. Jones and the family. \n(Please read ‘Notes’ below) \nVISITATION: 2–3 PM\, Wednesday\, June 15\, 2016 \nSTAGING: 1:45 PM\, PGR will provide an Honor Flag line\, at: \nLara Kendall Elementary School\n200 North College St. Ridgely\, TN 38080 \nFUNERAL SERVICE: 3 PM (same location) \nINTERMENT: Follows immediately after the memorial service\, PGR will escort and provide an Honor Flag line during the Military Honors at: \nNew Haven Cemetery\nMadie Road\, Ridgely\, TN 38080 \nRCIC: Jim Phelps\, 731-514-0733 \nWEATHER:\nWED 15 JUN\, POP-UP STORMS\,  94°\, PRECIP 50%\, WIND WSW AT 8MPH\n(The heat index will exceed 100°) \nNotes:\n1.     In accordance with PGR National guidance: Members and Leadership; Once the Honor Mission has begun\, no pictures or no videos should be taken.\n2.     Treat other PGR members with the same dignity and respect you would expect for yourself.\n3.     If you don’t own or ride a motorcycle\, automobiles are always welcome on all missions… You don’t have to be a Veteran to stand on the flag line\, honoring a Veteran or First Responder (Police\, Fire or EMS) Killed in the line of duty.
URL:https://www.patriotguard.org/mission/george-jones-37/
CATEGORIES:Archive
END:VEVENT
END:VCALENDAR