BEGIN:VCALENDAR
VERSION:2.0
PRODID:-//Patriot Guard Riders - ECPv5.6.0//NONSGML v1.0//EN
CALSCALE:GREGORIAN
METHOD:PUBLISH
X-WR-CALNAME:Patriot Guard Riders
X-ORIGINAL-URL:https://www.patriotguard.org
X-WR-CALDESC:Events for Patriot Guard Riders
BEGIN:VTIMEZONE
TZID:America/New_York
BEGIN:DAYLIGHT
TZOFFSETFROM:-0500
TZOFFSETTO:-0400
TZNAME:EDT
DTSTART:20160313T070000
END:DAYLIGHT
BEGIN:STANDARD
TZOFFSETFROM:-0400
TZOFFSETTO:-0500
TZNAME:EST
DTSTART:20161106T060000
END:STANDARD
END:VTIMEZONE
BEGIN:VEVENT
DTSTART;TZID=America/New_York:20160603T090000
DTEND;TZID=America/New_York:20160603T110000
DTSTAMP:20210513T132559
CREATED:20160603T130000Z
LAST-MODIFIED:20191201T145407Z
UID:411560-1464944400-1464951600@www.patriotguard.org
SUMMARY:George Johnson\, 99\, USA
DESCRIPTION:US Army WW II Veteran George Johnson – 99\nGrenada\, Mississippi\n\n\n \nMr. George Johnson has passed away\, please join me in adding condolence messages for his family. \nMr. Johnson proudly and honorably served our country in the US Army during WW II\, according to a family member\, he was awarded 3 Bronze Stars for his service in the Pacific Theater and was honorably discharged in 1949. \nVisitation was held Friday 3 June 2016 at ROBINSON & SON FUNERAL HOME; 1196 South Mound St.; Grenada\, MS 38901 and his funeral service was held Saturday 4 June 2016 at 1:00 PM at ABUNDANT LIFE CHURCH with burial in HAVEN REST CEMETERY in Grenada. \nWe regret the request was received too late to honor Mr. Johnson at his service\, please join me in leaving a condolence message for his family. I will pass the link on to his family. \n—\nDon McKibben\nMississippi State Captain
URL:https://www.patriotguard.org/mission/george-johnson-99-usa/
CATEGORIES:Archive
END:VEVENT
END:VCALENDAR