BEGIN:VCALENDAR
VERSION:2.0
PRODID:-//Patriot Guard Riders - ECPv5.6.0//NONSGML v1.0//EN
CALSCALE:GREGORIAN
METHOD:PUBLISH
X-WR-CALNAME:Patriot Guard Riders
X-ORIGINAL-URL:https://www.patriotguard.org
X-WR-CALDESC:Events for Patriot Guard Riders
BEGIN:VTIMEZONE
TZID:America/New_York
BEGIN:DAYLIGHT
TZOFFSETFROM:-0500
TZOFFSETTO:-0400
TZNAME:EDT
DTSTART:20160313T070000
END:DAYLIGHT
BEGIN:STANDARD
TZOFFSETFROM:-0400
TZOFFSETTO:-0500
TZNAME:EST
DTSTART:20161106T060000
END:STANDARD
END:VTIMEZONE
BEGIN:VEVENT
DTSTART;TZID=America/New_York:20160709T090000
DTEND;TZID=America/New_York:20160709T110000
DTSTAMP:20210512T162919
CREATED:20160709T130000Z
LAST-MODIFIED:20191201T144541Z
UID:410799-1468054800-1468062000@www.patriotguard.org
SUMMARY:George Humphreys\, USN
DESCRIPTION:Ladies and Gentlemen of the Patriot Guard Riders the family of George “Glen” Humphreys has requested a PGR Flag Line for the Memorial celebrating the life of this Navy Veteran.  Mr. Humphrey served during the later stages of the Vietnam War aboard the USS King.  The King was a Farragut-class guided missile destroyer.  During the Vietnam era she carried a helicopter and a search and rescue crew.  The Ship’s crew received many commendations for their efforts.  Glen’s body was laid to rest on the coast where he grew up in a small private ceremony.  This Memorial in Goldendale will give local residents and his extended family an opportunity to pay their respects.  Thank you Glen for your service to our Nation. \nMISSION PLAN: This will be a flag line mission   \nMISSION DATE:  9 JUL 2016 / Saturday \nSTAGING LOCATION:  Community Grace Brethren Church.  1180 S Roosevelt\, Goldendale\, WA.  East end of parking lot.\n\nSCHEDULE:\n0930 – Staging\n1000 – Briefing\n1015 – Establish Flag line \n1100 – Service begins; members will be dismissed shortly after.     \nRIDE CAPTAIN:  Rod Runyon; 541-993-6413 reckless.1@hotmail.com\nASST. RIDE CAPTAIN:  Bob Canavan; bcan77@aol.com
URL:https://www.patriotguard.org/mission/george-humphreys-usn/
CATEGORIES:Archive
END:VEVENT
END:VCALENDAR