BEGIN:VCALENDAR
VERSION:2.0
PRODID:-//Patriot Guard Riders - ECPv5.3.2.1//NONSGML v1.0//EN
CALSCALE:GREGORIAN
METHOD:PUBLISH
X-WR-CALNAME:Patriot Guard Riders
X-ORIGINAL-URL:https://www.patriotguard.org
X-WR-CALDESC:Events for Patriot Guard Riders
BEGIN:VTIMEZONE
TZID:America/New_York
BEGIN:DAYLIGHT
TZOFFSETFROM:-0500
TZOFFSETTO:-0400
TZNAME:EDT
DTSTART:20190310T070000
END:DAYLIGHT
BEGIN:STANDARD
TZOFFSETFROM:-0400
TZOFFSETTO:-0500
TZNAME:EST
DTSTART:20191103T060000
END:STANDARD
END:VTIMEZONE
BEGIN:VEVENT
DTSTART;VALUE=DATE:20190824
DTEND;VALUE=DATE:20190825
DTSTAMP:20210402T140626
CREATED:20190822T130802Z
LAST-MODIFIED:20190822T130802Z
UID:171627-1566604800-1566691199@www.patriotguard.org
SUMMARY:George Hilbert Stills
DESCRIPTION:  \n\nHonor Mission\nGeorge Hilbert Stills\, Retired\nUSMC – Vietnam\nPensacola\, Florida  08-24-19\n\n\n \n\nABOUT THE MISSION: \nThe Patriot Guard has been invited by the family of MGySgt George Hilbert Stills\, United States Marine Corps\, to stand in his honor and escort him to Holy Cross Cemetery. MGySgt Stills served in the United States Marine Corps for 27 years and was honorably retired in November 1994. His numerous awards and decorations include the Purple Heart Medal (2nd Awd)\, Meritorious Service Medal\, National Defense Service Medal (2nd Awd)\, Good Conduct the Medal (9th Awd)\, Combat Action Ribbon\, Navy Achievement Medal\, Meritorious Mast (2nd Awd)\, Sea Service Deployment Ribbon\, Navy Unit Commendation\, Meritorious Unit Commendation (2nd Awd)\, Navy Commendation Medal\, Vietnam Service Medal (2nd Awd)\, Vietnam Commendation Medal w/1960 Device\, Republic of Vietnam Meritorious Unit Citation (Gallantry Cross Medal w/Color Palm\, Republic of Vietnam Meritorious Unit Citation(Civil Action Medal 1st Class Color w/Palm\, and the Presidential Unit Citation.Services will be at Talbert Chapel A.M.E. Church 421 West La Rua St\, Pensacola\, Fl. Military honors to follow at Holy Cross Cemetery\, Pensacola\, Fl.\n\n\nPRIMARY STAGING DETAILS: 08-24-19 \nStaging Time: 12:45 PM  \nMcDonald’s\n815 E. Cervantes St\nPensacola\, Florida\n\n\nRide Captain: \nBilly Early\, MSgt (Ret) USAF\n(850) 485-9600\n\n\nSpecial Instructions: \nIt is recommended that all riders riding with PGR wear long sleeve shirts\, Long trousers\, long fingered gloves\, DOT approved helmets\, leather footwear covering the ankles\, and appropriate eye protection while riding with the Patriot Guard.\n\n1:30 PM – Safety Briefing for all riders\n1:45 PM – KSU for Talbert Chapel A.M.E. Church\, 421 W. La Rua St.\n2:00 PM – Arrive at Church\n2:30 PM – KSU for Holy Cross Cemetery\, 1300 E. Hayes St.\, Pensacola\n3:00 PM – Honors at Holy Cross Cemetery\n\n\nFlags & Water:\nFlags will be provided\nIf you have large bike flags\, please bring them.\nWater will be provided.\n  \n\n\n\nSubmitted By: Ray Doyle \nPosition: Florida Assistant State Captain \n\nNote: You do not have to own/ride a motorcycle or be a veteran to join\, and membership is Free. The only requirement is RESPECT! To subscribe to receive mission notices\, log into the National Site and click on the Members tab at the top. Select the Subscribe to PGR Missions option.\n Print This Page
URL:https://www.patriotguard.org/mission/george-hilbert-stills/
CATEGORIES:Honor Mission
END:VEVENT
END:VCALENDAR