BEGIN:VCALENDAR
VERSION:2.0
PRODID:-//Patriot Guard Riders - ECPv5.6.0//NONSGML v1.0//EN
CALSCALE:GREGORIAN
METHOD:PUBLISH
X-WR-CALNAME:Patriot Guard Riders
X-ORIGINAL-URL:https://www.patriotguard.org
X-WR-CALDESC:Events for Patriot Guard Riders
BEGIN:VTIMEZONE
TZID:America/New_York
BEGIN:DAYLIGHT
TZOFFSETFROM:-0500
TZOFFSETTO:-0400
TZNAME:EDT
DTSTART:20160313T070000
END:DAYLIGHT
BEGIN:STANDARD
TZOFFSETFROM:-0400
TZOFFSETTO:-0500
TZNAME:EST
DTSTART:20161106T060000
END:STANDARD
END:VTIMEZONE
BEGIN:VEVENT
DTSTART;TZID=America/New_York:20160819T090000
DTEND;TZID=America/New_York:20160819T110000
DTSTAMP:20210511T194834
CREATED:20160819T130000Z
LAST-MODIFIED:20191201T143519Z
UID:409839-1471597200-1471604400@www.patriotguard.org
SUMMARY:George Hernandez\, USA\, Vietnam
DESCRIPTION:George Hernandez was born on 9 July 1946 in Phoenix\, Arizona and was one of four children.  \n\nAt  the age of 19\, George joined to United States Army.  His service time  spanned from 1965 to 1967.  PFC Hernandez was a Door Gunner during the  Vietnam war.  His service medals included the National Defense Service  Medal\, the Vietnam Service Medal with two Bronze stars\, the Republic of  Vietnam Campaign Medal with Device 1960 and 2 OS Bars\, and Air Medal  with 6 Oak Leaf Clusters. \nUpon returning home\, PFC Hernandez joined the Army National Guard and served with pride in this capacity too. \nPFC Hernandez worked as a volunteer at the VA for many years helping his fellow service men.  \n\nPFC  Hernandez married the love of his life Roberta and resided in Tucson.   His family said he was a jokester\, easy going\, simple man with a good  heart.\n\nPFC Hernandez passed on 11 August 2016.  He will be missed by many.\n\nThe Patriot Guard Riders have been invited to stand a flag line and it will our honor to do so. \nDATE:  13 August 2016\n\nSTAGING:  Martinez Mortuary\n                   2580 S. 6th Avenue\n                   Tucson\, Arizona  85713 \nTIME:  1:00 PM \nBRIEFING:  1:15 PM \n\nRIDE CAPTAIN:  Robi 520-429-1175\n\n***PLEASE  REMEMBER WE ARE IN THE HEAT OF SUMMER TO HYDRATE THE DAY BEFORE AS WELL  AS THE DAY OF THE MISSION WITH WATER OR GATORADE***
URL:https://www.patriotguard.org/mission/george-hernandez-usa-vietnam/
CATEGORIES:Archive
END:VEVENT
END:VCALENDAR